BEGIN:VCALENDAR
VERSION:2.0
PRODID:-//demens.nu - ECPv6.15.20//NONSGML v1.0//EN
CALSCALE:GREGORIAN
METHOD:PUBLISH
X-WR-CALNAME:demens.nu
X-ORIGINAL-URL:https://demens.nu
X-WR-CALDESC:Evenementen voor demens.nu
REFRESH-INTERVAL;VALUE=DURATION:PT1H
X-Robots-Tag:noindex
X-PUBLISHED-TTL:PT1H
BEGIN:VTIMEZONE
TZID:Europe/Paris
BEGIN:DAYLIGHT
TZOFFSETFROM:+0100
TZOFFSETTO:+0200
TZNAME:CEST
DTSTART:20280326T010000
END:DAYLIGHT
BEGIN:STANDARD
TZOFFSETFROM:+0200
TZOFFSETTO:+0100
TZNAME:CET
DTSTART:20281029T010000
END:STANDARD
BEGIN:DAYLIGHT
TZOFFSETFROM:+0100
TZOFFSETTO:+0200
TZNAME:CEST
DTSTART:20290325T010000
END:DAYLIGHT
BEGIN:STANDARD
TZOFFSETFROM:+0200
TZOFFSETTO:+0100
TZNAME:CET
DTSTART:20291028T010000
END:STANDARD
BEGIN:DAYLIGHT
TZOFFSETFROM:+0100
TZOFFSETTO:+0200
TZNAME:CEST
DTSTART:20300331T010000
END:DAYLIGHT
BEGIN:STANDARD
TZOFFSETFROM:+0200
TZOFFSETTO:+0100
TZNAME:CET
DTSTART:20301027T010000
END:STANDARD
BEGIN:DAYLIGHT
TZOFFSETFROM:+0100
TZOFFSETTO:+0200
TZNAME:CEST
DTSTART:20310330T010000
END:DAYLIGHT
BEGIN:STANDARD
TZOFFSETFROM:+0200
TZOFFSETTO:+0100
TZNAME:CET
DTSTART:20311026T010000
END:STANDARD
BEGIN:DAYLIGHT
TZOFFSETFROM:+0100
TZOFFSETTO:+0200
TZNAME:CEST
DTSTART:20320328T010000
END:DAYLIGHT
BEGIN:STANDARD
TZOFFSETFROM:+0200
TZOFFSETTO:+0100
TZNAME:CET
DTSTART:20321031T010000
END:STANDARD
END:VTIMEZONE
BEGIN:VEVENT
DTSTART;TZID=Europe/Paris:20290817T150000
DTEND;TZID=Europe/Paris:20290817T170000
DTSTAMP:20260425T163057
CREATED:20260416T131139Z
LAST-MODIFIED:20260416T131613Z
UID:10001059-1881673200-1881680400@demens.nu
SUMMARY:Haakproject
DESCRIPTION:Haak mee voor een goed doel.  \nElke 3de vrijdag van de maand komen we met een toffe groep vrijwilligers samen bij huisvandeMens Tienen om te haken. Samen werken we aan leuke projecten zoals troostkussens\, knubbe-beren of leuke dingen ten voordele van een goed doel of een warm initiatief in onze gemeenschap. \nOf je nu een ervaren haker bent of net begint: iedereen is welkom! Breng je enthousiasme mee voor een gezellige namiddag vol creativiteit en verbinding. Het materiaal wordt aangeboden door deMens.nu. \n  \nHelp jij ook mee aan dit mooie project\, schrijf je dan hier in voor de momenten dat je vrij bent.
URL:https://demens.nu/evenement/troostkussen-haakproject-2-2-2/2029-08-17/
LOCATION:Vlaams-brabant
CATEGORIES:Andere
ATTACH;FMTTYPE=image/jpeg:https://demens.nu/wp-content/uploads/2025/12/Gnomes.jpeg
END:VEVENT
BEGIN:VEVENT
DTSTART;TZID=Europe/Paris:20290921T150000
DTEND;TZID=Europe/Paris:20290921T170000
DTSTAMP:20260425T163057
CREATED:20260416T131139Z
LAST-MODIFIED:20260416T131613Z
UID:10001060-1884697200-1884704400@demens.nu
SUMMARY:Haakproject
DESCRIPTION:Haak mee voor een goed doel.  \nElke 3de vrijdag van de maand komen we met een toffe groep vrijwilligers samen bij huisvandeMens Tienen om te haken. Samen werken we aan leuke projecten zoals troostkussens\, knubbe-beren of leuke dingen ten voordele van een goed doel of een warm initiatief in onze gemeenschap. \nOf je nu een ervaren haker bent of net begint: iedereen is welkom! Breng je enthousiasme mee voor een gezellige namiddag vol creativiteit en verbinding. Het materiaal wordt aangeboden door deMens.nu. \n  \nHelp jij ook mee aan dit mooie project\, schrijf je dan hier in voor de momenten dat je vrij bent.
URL:https://demens.nu/evenement/troostkussen-haakproject-2-2-2/2029-09-21/
LOCATION:Vlaams-brabant
CATEGORIES:Andere
ATTACH;FMTTYPE=image/jpeg:https://demens.nu/wp-content/uploads/2025/12/Gnomes.jpeg
END:VEVENT
BEGIN:VEVENT
DTSTART;TZID=Europe/Paris:20291019T150000
DTEND;TZID=Europe/Paris:20291019T170000
DTSTAMP:20260425T163057
CREATED:20260416T131139Z
LAST-MODIFIED:20260416T131613Z
UID:10001061-1887116400-1887123600@demens.nu
SUMMARY:Haakproject
DESCRIPTION:Haak mee voor een goed doel.  \nElke 3de vrijdag van de maand komen we met een toffe groep vrijwilligers samen bij huisvandeMens Tienen om te haken. Samen werken we aan leuke projecten zoals troostkussens\, knubbe-beren of leuke dingen ten voordele van een goed doel of een warm initiatief in onze gemeenschap. \nOf je nu een ervaren haker bent of net begint: iedereen is welkom! Breng je enthousiasme mee voor een gezellige namiddag vol creativiteit en verbinding. Het materiaal wordt aangeboden door deMens.nu. \n  \nHelp jij ook mee aan dit mooie project\, schrijf je dan hier in voor de momenten dat je vrij bent.
URL:https://demens.nu/evenement/troostkussen-haakproject-2-2-2/2029-10-19/
LOCATION:Vlaams-brabant
CATEGORIES:Andere
ATTACH;FMTTYPE=image/jpeg:https://demens.nu/wp-content/uploads/2025/12/Gnomes.jpeg
END:VEVENT
BEGIN:VEVENT
DTSTART;TZID=Europe/Paris:20291116T150000
DTEND;TZID=Europe/Paris:20291116T170000
DTSTAMP:20260425T163057
CREATED:20260416T131139Z
LAST-MODIFIED:20260416T131613Z
UID:10001062-1889535600-1889542800@demens.nu
SUMMARY:Haakproject
DESCRIPTION:Haak mee voor een goed doel.  \nElke 3de vrijdag van de maand komen we met een toffe groep vrijwilligers samen bij huisvandeMens Tienen om te haken. Samen werken we aan leuke projecten zoals troostkussens\, knubbe-beren of leuke dingen ten voordele van een goed doel of een warm initiatief in onze gemeenschap. \nOf je nu een ervaren haker bent of net begint: iedereen is welkom! Breng je enthousiasme mee voor een gezellige namiddag vol creativiteit en verbinding. Het materiaal wordt aangeboden door deMens.nu. \n  \nHelp jij ook mee aan dit mooie project\, schrijf je dan hier in voor de momenten dat je vrij bent.
URL:https://demens.nu/evenement/troostkussen-haakproject-2-2-2/2029-11-16/
LOCATION:Vlaams-brabant
CATEGORIES:Andere
ATTACH;FMTTYPE=image/jpeg:https://demens.nu/wp-content/uploads/2025/12/Gnomes.jpeg
END:VEVENT
BEGIN:VEVENT
DTSTART;TZID=Europe/Paris:20291221T150000
DTEND;TZID=Europe/Paris:20291221T170000
DTSTAMP:20260425T163057
CREATED:20260416T131139Z
LAST-MODIFIED:20260416T131613Z
UID:10001063-1892559600-1892566800@demens.nu
SUMMARY:Haakproject
DESCRIPTION:Haak mee voor een goed doel.  \nElke 3de vrijdag van de maand komen we met een toffe groep vrijwilligers samen bij huisvandeMens Tienen om te haken. Samen werken we aan leuke projecten zoals troostkussens\, knubbe-beren of leuke dingen ten voordele van een goed doel of een warm initiatief in onze gemeenschap. \nOf je nu een ervaren haker bent of net begint: iedereen is welkom! Breng je enthousiasme mee voor een gezellige namiddag vol creativiteit en verbinding. Het materiaal wordt aangeboden door deMens.nu. \n  \nHelp jij ook mee aan dit mooie project\, schrijf je dan hier in voor de momenten dat je vrij bent.
URL:https://demens.nu/evenement/troostkussen-haakproject-2-2-2/2029-12-21/
LOCATION:Vlaams-brabant
CATEGORIES:Andere
ATTACH;FMTTYPE=image/jpeg:https://demens.nu/wp-content/uploads/2025/12/Gnomes.jpeg
END:VEVENT
BEGIN:VEVENT
DTSTART;TZID=Europe/Paris:20300118T150000
DTEND;TZID=Europe/Paris:20300118T170000
DTSTAMP:20260425T163057
CREATED:20260416T131139Z
LAST-MODIFIED:20260416T131613Z
UID:10001064-1894978800-1894986000@demens.nu
SUMMARY:Haakproject
DESCRIPTION:Haak mee voor een goed doel.  \nElke 3de vrijdag van de maand komen we met een toffe groep vrijwilligers samen bij huisvandeMens Tienen om te haken. Samen werken we aan leuke projecten zoals troostkussens\, knubbe-beren of leuke dingen ten voordele van een goed doel of een warm initiatief in onze gemeenschap. \nOf je nu een ervaren haker bent of net begint: iedereen is welkom! Breng je enthousiasme mee voor een gezellige namiddag vol creativiteit en verbinding. Het materiaal wordt aangeboden door deMens.nu. \n  \nHelp jij ook mee aan dit mooie project\, schrijf je dan hier in voor de momenten dat je vrij bent.
URL:https://demens.nu/evenement/troostkussen-haakproject-2-2-2/2030-01-18/
LOCATION:Vlaams-brabant
CATEGORIES:Andere
ATTACH;FMTTYPE=image/jpeg:https://demens.nu/wp-content/uploads/2025/12/Gnomes.jpeg
END:VEVENT
BEGIN:VEVENT
DTSTART;TZID=Europe/Paris:20300215T150000
DTEND;TZID=Europe/Paris:20300215T170000
DTSTAMP:20260425T163057
CREATED:20260416T131139Z
LAST-MODIFIED:20260416T131613Z
UID:10001065-1897398000-1897405200@demens.nu
SUMMARY:Haakproject
DESCRIPTION:Haak mee voor een goed doel.  \nElke 3de vrijdag van de maand komen we met een toffe groep vrijwilligers samen bij huisvandeMens Tienen om te haken. Samen werken we aan leuke projecten zoals troostkussens\, knubbe-beren of leuke dingen ten voordele van een goed doel of een warm initiatief in onze gemeenschap. \nOf je nu een ervaren haker bent of net begint: iedereen is welkom! Breng je enthousiasme mee voor een gezellige namiddag vol creativiteit en verbinding. Het materiaal wordt aangeboden door deMens.nu. \n  \nHelp jij ook mee aan dit mooie project\, schrijf je dan hier in voor de momenten dat je vrij bent.
URL:https://demens.nu/evenement/troostkussen-haakproject-2-2-2/2030-02-15/
LOCATION:Vlaams-brabant
CATEGORIES:Andere
ATTACH;FMTTYPE=image/jpeg:https://demens.nu/wp-content/uploads/2025/12/Gnomes.jpeg
END:VEVENT
BEGIN:VEVENT
DTSTART;TZID=Europe/Paris:20300315T150000
DTEND;TZID=Europe/Paris:20300315T170000
DTSTAMP:20260425T163057
CREATED:20260416T131139Z
LAST-MODIFIED:20260416T131613Z
UID:10001066-1899817200-1899824400@demens.nu
SUMMARY:Haakproject
DESCRIPTION:Haak mee voor een goed doel.  \nElke 3de vrijdag van de maand komen we met een toffe groep vrijwilligers samen bij huisvandeMens Tienen om te haken. Samen werken we aan leuke projecten zoals troostkussens\, knubbe-beren of leuke dingen ten voordele van een goed doel of een warm initiatief in onze gemeenschap. \nOf je nu een ervaren haker bent of net begint: iedereen is welkom! Breng je enthousiasme mee voor een gezellige namiddag vol creativiteit en verbinding. Het materiaal wordt aangeboden door deMens.nu. \n  \nHelp jij ook mee aan dit mooie project\, schrijf je dan hier in voor de momenten dat je vrij bent.
URL:https://demens.nu/evenement/troostkussen-haakproject-2-2-2/2030-03-15/
LOCATION:Vlaams-brabant
CATEGORIES:Andere
ATTACH;FMTTYPE=image/jpeg:https://demens.nu/wp-content/uploads/2025/12/Gnomes.jpeg
END:VEVENT
BEGIN:VEVENT
DTSTART;TZID=Europe/Paris:20300419T150000
DTEND;TZID=Europe/Paris:20300419T170000
DTSTAMP:20260425T163057
CREATED:20260416T131139Z
LAST-MODIFIED:20260416T131613Z
UID:10001067-1902841200-1902848400@demens.nu
SUMMARY:Haakproject
DESCRIPTION:Haak mee voor een goed doel.  \nElke 3de vrijdag van de maand komen we met een toffe groep vrijwilligers samen bij huisvandeMens Tienen om te haken. Samen werken we aan leuke projecten zoals troostkussens\, knubbe-beren of leuke dingen ten voordele van een goed doel of een warm initiatief in onze gemeenschap. \nOf je nu een ervaren haker bent of net begint: iedereen is welkom! Breng je enthousiasme mee voor een gezellige namiddag vol creativiteit en verbinding. Het materiaal wordt aangeboden door deMens.nu. \n  \nHelp jij ook mee aan dit mooie project\, schrijf je dan hier in voor de momenten dat je vrij bent.
URL:https://demens.nu/evenement/troostkussen-haakproject-2-2-2/2030-04-19/
LOCATION:Vlaams-brabant
CATEGORIES:Andere
ATTACH;FMTTYPE=image/jpeg:https://demens.nu/wp-content/uploads/2025/12/Gnomes.jpeg
END:VEVENT
BEGIN:VEVENT
DTSTART;TZID=Europe/Paris:20300517T150000
DTEND;TZID=Europe/Paris:20300517T170000
DTSTAMP:20260425T163057
CREATED:20260416T131139Z
LAST-MODIFIED:20260416T131613Z
UID:10001068-1905260400-1905267600@demens.nu
SUMMARY:Haakproject
DESCRIPTION:Haak mee voor een goed doel.  \nElke 3de vrijdag van de maand komen we met een toffe groep vrijwilligers samen bij huisvandeMens Tienen om te haken. Samen werken we aan leuke projecten zoals troostkussens\, knubbe-beren of leuke dingen ten voordele van een goed doel of een warm initiatief in onze gemeenschap. \nOf je nu een ervaren haker bent of net begint: iedereen is welkom! Breng je enthousiasme mee voor een gezellige namiddag vol creativiteit en verbinding. Het materiaal wordt aangeboden door deMens.nu. \n  \nHelp jij ook mee aan dit mooie project\, schrijf je dan hier in voor de momenten dat je vrij bent.
URL:https://demens.nu/evenement/troostkussen-haakproject-2-2-2/2030-05-17/
LOCATION:Vlaams-brabant
CATEGORIES:Andere
ATTACH;FMTTYPE=image/jpeg:https://demens.nu/wp-content/uploads/2025/12/Gnomes.jpeg
END:VEVENT
BEGIN:VEVENT
DTSTART;TZID=Europe/Paris:20300621T150000
DTEND;TZID=Europe/Paris:20300621T170000
DTSTAMP:20260425T163057
CREATED:20260416T131139Z
LAST-MODIFIED:20260416T131613Z
UID:10001069-1908284400-1908291600@demens.nu
SUMMARY:Haakproject
DESCRIPTION:Haak mee voor een goed doel.  \nElke 3de vrijdag van de maand komen we met een toffe groep vrijwilligers samen bij huisvandeMens Tienen om te haken. Samen werken we aan leuke projecten zoals troostkussens\, knubbe-beren of leuke dingen ten voordele van een goed doel of een warm initiatief in onze gemeenschap. \nOf je nu een ervaren haker bent of net begint: iedereen is welkom! Breng je enthousiasme mee voor een gezellige namiddag vol creativiteit en verbinding. Het materiaal wordt aangeboden door deMens.nu. \n  \nHelp jij ook mee aan dit mooie project\, schrijf je dan hier in voor de momenten dat je vrij bent.
URL:https://demens.nu/evenement/troostkussen-haakproject-2-2-2/2030-06-21/
LOCATION:Vlaams-brabant
CATEGORIES:Andere
ATTACH;FMTTYPE=image/jpeg:https://demens.nu/wp-content/uploads/2025/12/Gnomes.jpeg
END:VEVENT
BEGIN:VEVENT
DTSTART;TZID=Europe/Paris:20300719T150000
DTEND;TZID=Europe/Paris:20300719T170000
DTSTAMP:20260425T163057
CREATED:20260416T131139Z
LAST-MODIFIED:20260416T131613Z
UID:10001070-1910703600-1910710800@demens.nu
SUMMARY:Haakproject
DESCRIPTION:Haak mee voor een goed doel.  \nElke 3de vrijdag van de maand komen we met een toffe groep vrijwilligers samen bij huisvandeMens Tienen om te haken. Samen werken we aan leuke projecten zoals troostkussens\, knubbe-beren of leuke dingen ten voordele van een goed doel of een warm initiatief in onze gemeenschap. \nOf je nu een ervaren haker bent of net begint: iedereen is welkom! Breng je enthousiasme mee voor een gezellige namiddag vol creativiteit en verbinding. Het materiaal wordt aangeboden door deMens.nu. \n  \nHelp jij ook mee aan dit mooie project\, schrijf je dan hier in voor de momenten dat je vrij bent.
URL:https://demens.nu/evenement/troostkussen-haakproject-2-2-2/2030-07-19/
LOCATION:Vlaams-brabant
CATEGORIES:Andere
ATTACH;FMTTYPE=image/jpeg:https://demens.nu/wp-content/uploads/2025/12/Gnomes.jpeg
END:VEVENT
BEGIN:VEVENT
DTSTART;TZID=Europe/Paris:20300816T150000
DTEND;TZID=Europe/Paris:20300816T170000
DTSTAMP:20260425T163057
CREATED:20260416T131139Z
LAST-MODIFIED:20260416T131613Z
UID:10001071-1913122800-1913130000@demens.nu
SUMMARY:Haakproject
DESCRIPTION:Haak mee voor een goed doel.  \nElke 3de vrijdag van de maand komen we met een toffe groep vrijwilligers samen bij huisvandeMens Tienen om te haken. Samen werken we aan leuke projecten zoals troostkussens\, knubbe-beren of leuke dingen ten voordele van een goed doel of een warm initiatief in onze gemeenschap. \nOf je nu een ervaren haker bent of net begint: iedereen is welkom! Breng je enthousiasme mee voor een gezellige namiddag vol creativiteit en verbinding. Het materiaal wordt aangeboden door deMens.nu. \n  \nHelp jij ook mee aan dit mooie project\, schrijf je dan hier in voor de momenten dat je vrij bent.
URL:https://demens.nu/evenement/troostkussen-haakproject-2-2-2/2030-08-16/
LOCATION:Vlaams-brabant
CATEGORIES:Andere
ATTACH;FMTTYPE=image/jpeg:https://demens.nu/wp-content/uploads/2025/12/Gnomes.jpeg
END:VEVENT
BEGIN:VEVENT
DTSTART;TZID=Europe/Paris:20300920T150000
DTEND;TZID=Europe/Paris:20300920T170000
DTSTAMP:20260425T163057
CREATED:20260416T131139Z
LAST-MODIFIED:20260416T131613Z
UID:10001072-1916146800-1916154000@demens.nu
SUMMARY:Haakproject
DESCRIPTION:Haak mee voor een goed doel.  \nElke 3de vrijdag van de maand komen we met een toffe groep vrijwilligers samen bij huisvandeMens Tienen om te haken. Samen werken we aan leuke projecten zoals troostkussens\, knubbe-beren of leuke dingen ten voordele van een goed doel of een warm initiatief in onze gemeenschap. \nOf je nu een ervaren haker bent of net begint: iedereen is welkom! Breng je enthousiasme mee voor een gezellige namiddag vol creativiteit en verbinding. Het materiaal wordt aangeboden door deMens.nu. \n  \nHelp jij ook mee aan dit mooie project\, schrijf je dan hier in voor de momenten dat je vrij bent.
URL:https://demens.nu/evenement/troostkussen-haakproject-2-2-2/2030-09-20/
LOCATION:Vlaams-brabant
CATEGORIES:Andere
ATTACH;FMTTYPE=image/jpeg:https://demens.nu/wp-content/uploads/2025/12/Gnomes.jpeg
END:VEVENT
BEGIN:VEVENT
DTSTART;TZID=Europe/Paris:20301018T150000
DTEND;TZID=Europe/Paris:20301018T170000
DTSTAMP:20260425T163057
CREATED:20260416T131139Z
LAST-MODIFIED:20260416T131613Z
UID:10001073-1918566000-1918573200@demens.nu
SUMMARY:Haakproject
DESCRIPTION:Haak mee voor een goed doel.  \nElke 3de vrijdag van de maand komen we met een toffe groep vrijwilligers samen bij huisvandeMens Tienen om te haken. Samen werken we aan leuke projecten zoals troostkussens\, knubbe-beren of leuke dingen ten voordele van een goed doel of een warm initiatief in onze gemeenschap. \nOf je nu een ervaren haker bent of net begint: iedereen is welkom! Breng je enthousiasme mee voor een gezellige namiddag vol creativiteit en verbinding. Het materiaal wordt aangeboden door deMens.nu. \n  \nHelp jij ook mee aan dit mooie project\, schrijf je dan hier in voor de momenten dat je vrij bent.
URL:https://demens.nu/evenement/troostkussen-haakproject-2-2-2/2030-10-18/
LOCATION:Vlaams-brabant
CATEGORIES:Andere
ATTACH;FMTTYPE=image/jpeg:https://demens.nu/wp-content/uploads/2025/12/Gnomes.jpeg
END:VEVENT
BEGIN:VEVENT
DTSTART;TZID=Europe/Paris:20301115T150000
DTEND;TZID=Europe/Paris:20301115T170000
DTSTAMP:20260425T163057
CREATED:20260416T131139Z
LAST-MODIFIED:20260416T131613Z
UID:10001074-1920985200-1920992400@demens.nu
SUMMARY:Haakproject
DESCRIPTION:Haak mee voor een goed doel.  \nElke 3de vrijdag van de maand komen we met een toffe groep vrijwilligers samen bij huisvandeMens Tienen om te haken. Samen werken we aan leuke projecten zoals troostkussens\, knubbe-beren of leuke dingen ten voordele van een goed doel of een warm initiatief in onze gemeenschap. \nOf je nu een ervaren haker bent of net begint: iedereen is welkom! Breng je enthousiasme mee voor een gezellige namiddag vol creativiteit en verbinding. Het materiaal wordt aangeboden door deMens.nu. \n  \nHelp jij ook mee aan dit mooie project\, schrijf je dan hier in voor de momenten dat je vrij bent.
URL:https://demens.nu/evenement/troostkussen-haakproject-2-2-2/2030-11-15/
LOCATION:Vlaams-brabant
CATEGORIES:Andere
ATTACH;FMTTYPE=image/jpeg:https://demens.nu/wp-content/uploads/2025/12/Gnomes.jpeg
END:VEVENT
BEGIN:VEVENT
DTSTART;TZID=Europe/Paris:20301220T150000
DTEND;TZID=Europe/Paris:20301220T170000
DTSTAMP:20260425T163057
CREATED:20260416T131139Z
LAST-MODIFIED:20260416T131613Z
UID:10001075-1924009200-1924016400@demens.nu
SUMMARY:Haakproject
DESCRIPTION:Haak mee voor een goed doel.  \nElke 3de vrijdag van de maand komen we met een toffe groep vrijwilligers samen bij huisvandeMens Tienen om te haken. Samen werken we aan leuke projecten zoals troostkussens\, knubbe-beren of leuke dingen ten voordele van een goed doel of een warm initiatief in onze gemeenschap. \nOf je nu een ervaren haker bent of net begint: iedereen is welkom! Breng je enthousiasme mee voor een gezellige namiddag vol creativiteit en verbinding. Het materiaal wordt aangeboden door deMens.nu. \n  \nHelp jij ook mee aan dit mooie project\, schrijf je dan hier in voor de momenten dat je vrij bent.
URL:https://demens.nu/evenement/troostkussen-haakproject-2-2-2/2030-12-20/
LOCATION:Vlaams-brabant
CATEGORIES:Andere
ATTACH;FMTTYPE=image/jpeg:https://demens.nu/wp-content/uploads/2025/12/Gnomes.jpeg
END:VEVENT
BEGIN:VEVENT
DTSTART;TZID=Europe/Paris:20310117T150000
DTEND;TZID=Europe/Paris:20310117T170000
DTSTAMP:20260425T163057
CREATED:20260416T131139Z
LAST-MODIFIED:20260416T131613Z
UID:10001076-1926428400-1926435600@demens.nu
SUMMARY:Haakproject
DESCRIPTION:Haak mee voor een goed doel.  \nElke 3de vrijdag van de maand komen we met een toffe groep vrijwilligers samen bij huisvandeMens Tienen om te haken. Samen werken we aan leuke projecten zoals troostkussens\, knubbe-beren of leuke dingen ten voordele van een goed doel of een warm initiatief in onze gemeenschap. \nOf je nu een ervaren haker bent of net begint: iedereen is welkom! Breng je enthousiasme mee voor een gezellige namiddag vol creativiteit en verbinding. Het materiaal wordt aangeboden door deMens.nu. \n  \nHelp jij ook mee aan dit mooie project\, schrijf je dan hier in voor de momenten dat je vrij bent.
URL:https://demens.nu/evenement/troostkussen-haakproject-2-2-2/2031-01-17/
LOCATION:Vlaams-brabant
CATEGORIES:Andere
ATTACH;FMTTYPE=image/jpeg:https://demens.nu/wp-content/uploads/2025/12/Gnomes.jpeg
END:VEVENT
BEGIN:VEVENT
DTSTART;TZID=Europe/Paris:20310221T150000
DTEND;TZID=Europe/Paris:20310221T170000
DTSTAMP:20260425T163057
CREATED:20260416T131139Z
LAST-MODIFIED:20260416T131613Z
UID:10001544-1929452400-1929459600@demens.nu
SUMMARY:Haakproject
DESCRIPTION:Haak mee voor een goed doel.  \nElke 3de vrijdag van de maand komen we met een toffe groep vrijwilligers samen bij huisvandeMens Tienen om te haken. Samen werken we aan leuke projecten zoals troostkussens\, knubbe-beren of leuke dingen ten voordele van een goed doel of een warm initiatief in onze gemeenschap. \nOf je nu een ervaren haker bent of net begint: iedereen is welkom! Breng je enthousiasme mee voor een gezellige namiddag vol creativiteit en verbinding. Het materiaal wordt aangeboden door deMens.nu. \n  \nHelp jij ook mee aan dit mooie project\, schrijf je dan hier in voor de momenten dat je vrij bent.
URL:https://demens.nu/evenement/troostkussen-haakproject-2-2-2/2031-02-21/
LOCATION:Vlaams-brabant
CATEGORIES:Andere
ATTACH;FMTTYPE=image/jpeg:https://demens.nu/wp-content/uploads/2025/12/Gnomes.jpeg
END:VEVENT
BEGIN:VEVENT
DTSTART;TZID=Europe/Paris:20310321T150000
DTEND;TZID=Europe/Paris:20310321T170000
DTSTAMP:20260425T163057
CREATED:20260416T131139Z
LAST-MODIFIED:20260416T131613Z
UID:10001621-1931871600-1931878800@demens.nu
SUMMARY:Haakproject
DESCRIPTION:Haak mee voor een goed doel.  \nElke 3de vrijdag van de maand komen we met een toffe groep vrijwilligers samen bij huisvandeMens Tienen om te haken. Samen werken we aan leuke projecten zoals troostkussens\, knubbe-beren of leuke dingen ten voordele van een goed doel of een warm initiatief in onze gemeenschap. \nOf je nu een ervaren haker bent of net begint: iedereen is welkom! Breng je enthousiasme mee voor een gezellige namiddag vol creativiteit en verbinding. Het materiaal wordt aangeboden door deMens.nu. \n  \nHelp jij ook mee aan dit mooie project\, schrijf je dan hier in voor de momenten dat je vrij bent.
URL:https://demens.nu/evenement/troostkussen-haakproject-2-2-2/2031-03-21/
LOCATION:Vlaams-brabant
CATEGORIES:Andere
ATTACH;FMTTYPE=image/jpeg:https://demens.nu/wp-content/uploads/2025/12/Gnomes.jpeg
END:VEVENT
END:VCALENDAR