BEGIN:VCALENDAR
VERSION:2.0
PRODID:-//demens.nu - ECPv6.15.20//NONSGML v1.0//EN
CALSCALE:GREGORIAN
METHOD:PUBLISH
X-ORIGINAL-URL:https://demens.nu
X-WR-CALDESC:Evenementen voor demens.nu
REFRESH-INTERVAL;VALUE=DURATION:PT1H
X-Robots-Tag:noindex
X-PUBLISHED-TTL:PT1H
BEGIN:VTIMEZONE
TZID:Europe/Paris
BEGIN:DAYLIGHT
TZOFFSETFROM:+0100
TZOFFSETTO:+0200
TZNAME:CEST
DTSTART:20240331T010000
END:DAYLIGHT
BEGIN:STANDARD
TZOFFSETFROM:+0200
TZOFFSETTO:+0100
TZNAME:CET
DTSTART:20241027T010000
END:STANDARD
BEGIN:DAYLIGHT
TZOFFSETFROM:+0100
TZOFFSETTO:+0200
TZNAME:CEST
DTSTART:20250330T010000
END:DAYLIGHT
BEGIN:STANDARD
TZOFFSETFROM:+0200
TZOFFSETTO:+0100
TZNAME:CET
DTSTART:20251026T010000
END:STANDARD
BEGIN:DAYLIGHT
TZOFFSETFROM:+0100
TZOFFSETTO:+0200
TZNAME:CEST
DTSTART:20260329T010000
END:DAYLIGHT
BEGIN:STANDARD
TZOFFSETFROM:+0200
TZOFFSETTO:+0100
TZNAME:CET
DTSTART:20261025T010000
END:STANDARD
BEGIN:DAYLIGHT
TZOFFSETFROM:+0100
TZOFFSETTO:+0200
TZNAME:CEST
DTSTART:20270328T010000
END:DAYLIGHT
BEGIN:STANDARD
TZOFFSETFROM:+0200
TZOFFSETTO:+0100
TZNAME:CET
DTSTART:20271031T010000
END:STANDARD
END:VTIMEZONE
BEGIN:VEVENT
DTSTART;TZID=Europe/Paris:20260106T140000
DTEND;TZID=Europe/Paris:20260106T160000
DTSTAMP:20260425T175813
CREATED:20251211T101042Z
LAST-MODIFIED:20251211T103630Z
UID:10000077-1767708000-1767715200@demens.nu
SUMMARY:Winterontmoetingen
DESCRIPTION:Na het succes van de zomereditie nodigen we je uit voor een warme winterreeks van zes open gesprekken\, waarin lichtheid en diepgang elkaar afwisselen.\nBij koffie of thee en met iets lekkers praten we over het leven — over wat ons raakt\, verwondert en verbindt.\nNoteer alvast de volgende data:\nZaterdag 15 november\, 13u – 15u: Over herdenken\nDinsdag 25 november\, 14u – 16u: Over muziek – het ritme van ons leven\nZaterdag 6 december\, 13u – 15u: Over licht en donker – Winterzonnewende\nDinsdag 6 januari\, 14u – 16u: Over De balans van geven en krijgen\nZaterdag 17 januari\, 13u – 15u: Over liefde voor huisdieren\nDinsdag 27 januari\, 14u – 16u: Over dementie\nOnthaal telkens 30 minuten vooraf.\n📍 Huiskamer van het huisvandeMens Vilvoorde (1e verdiep)\n☕ Gratis deelname\, inschrijven verplicht: 02 253 78 54\, vilvoorde@deMens.nu of via de site
URL:https://demens.nu/evenement/winterontmoetingen/
LOCATION:lim
CATEGORIES:Ontmoeting
ATTACH;FMTTYPE=image/png:https://demens.nu/wp-content/uploads/2025/12/winteront-2-1GBGcN.png
ORGANIZER;CN="huisvandeMens Vilvoorde":MAILTO:vilvoorde@demens.nu
END:VEVENT
BEGIN:VEVENT
DTSTART;TZID=Europe/Paris:20260106T140000
DTEND;TZID=Europe/Paris:20260106T153000
DTSTAMP:20260425T175813
CREATED:20260106T094522Z
LAST-MODIFIED:20260106T094522Z
UID:10000142-1767708000-1767713400@demens.nu
SUMMARY:Voorafgaande zorgplanning
DESCRIPTION:Tijdens deze infosessie krijg je info over mogelijke beslissingen bij het levenseinde: euthanasie\, weigeren van behandelingen\, orgaandonatie\, lichaam schenken aan de wetenschap\, uitvaart… Via wilsverklaringen kan jij de regie over jouw leven en het levenseinde mee in handen nemen. We geven je een heldere uitleg over hoe de wetgeving in elkaar zit\, overlopen samen de verschillende formulieren en er is tijd voor al jouw vragen. \nInschrijven via genk@deMens.nu of 089 51 80 40.
URL:https://demens.nu/evenement/voorafgaande-zorgplanning-2/
LOCATION:lim
CATEGORIES:Infosessie
ATTACH;FMTTYPE=image/jpeg:https://demens.nu/wp-content/uploads/2026/01/voorafgaande-zorgplanning.jpg
ORGANIZER;CN="huisvandeMens Genk":MAILTO:genk@demens.nu
END:VEVENT
BEGIN:VEVENT
DTSTART;TZID=Europe/Paris:20251218T180000
DTEND;TZID=Europe/Paris:20251219T003000
DTSTAMP:20260425T175813
CREATED:20251218T133925Z
LAST-MODIFIED:20251218T144558Z
UID:10000126-1766080800-1766104200@demens.nu
SUMMARY:Feest vrijwilligers Brussel
DESCRIPTION:VRIJWILLIGERSFEEST\n\n\n\n\n\n\n\n\nOrganisator \nhuisvandeMens Brussel \n\n\n\n\n\n\n\n18 december\, 2025 @ 17:30 – 23:00\n\n\n\n\n\n\n\n\nNa een jaar vol activiteiten is het tijd om jullie als vrijwilligers in de bloemetjes te zetten. Onze werking zou niet mogelijk zijn zonder jullie inzet en enthousiasme – dankjewel! Daarom nodigen wij jullie uit op donderdag 18 december 2025 in huisvandeMens Brussel om samen te vieren.  \n\nWe verwennen jullie met een feestelijk programma: een heerlijk buffet en privéconcert. Je mag bovendien een partner\, vriend of familielid meebrengen om samen te genieten van deze avond. \n\n\n We starten de avond met een Libanees buffetdat met alle liefde wordt bereid door het lokale initiatief Cassonade. Cassonade is een solidaire ontmoetingsplek in Molenbeek waar je een gratis maaltijd krijgt die door iemand anders is betaald — en later geef jij er één terug. Met een team van meer dan 50 vrij  willigers zorgen ze samen voor duizenden geschonken maaltijden en uren inzet per jaar. Laat het smaken!’ \n\n\n\n\n\n\n\n\nLater op de avond worden we getrakteerd op een privéconcert van niemand minder danWigbert. Hij debuteerde in 1991 met zijn album ‘Ticket In De Nachtkastla’\, en zijn single ‘De Ebbenhout Blues’ ontpopte zich tot een echte klassieker. Samen met percussionist Amel Serra Garcia en geluidskunstenaar Gert Jacobs brengen ze feestelijk Nederlandstalige swing. \n  \nBenieuwd naar zijn muziek? Luister hier. 
URL:https://demens.nu/evenement/vrijwilligersfeest-brussel/
LOCATION:lim
ATTACH;FMTTYPE=image/png:https://demens.nu/wp-content/uploads/2025/12/vrijwilligersfeest02.png
END:VEVENT
BEGIN:VEVENT
DTSTART;TZID=Europe/Paris:20251217T140000
DTEND;TZID=Europe/Paris:20251217T160000
DTSTAMP:20260425T175813
CREATED:20251211T102649Z
LAST-MODIFIED:20251215T103745Z
UID:10000117-1765980000-1765987200@demens.nu
SUMMARY:Infosessie: levenseinde
DESCRIPTION:Tijdens deze infosessie krijg je info over mogelijke beslissingen bij het levenseinde: euthanasie\, weigeren van behandelingen (patiëntenrechten)\, orgaandonatie\, lichaam schenken aan de wetenschap\, uitvaart… Via wilsverklaringen kan jij de regie over jouw leven en het levenseinde mee in handen nemen. Het invullen van deze wilsverklaringen is geen kwestie van een paar minuten werk. Er gaat een heel denkproces aan vooraf en dan nog zijn er heel wat vragen… We geven je een heldere uitleg over hoe de wetgeving in elkaar zit\, overlopen samen met jou de verschillende formulieren en bovendien is er voldoende tijd voor al jouw vragen.\nInschrijven verplicht via bree@deMens.nu\, 089 73 05 00 of Messenger\nWoensdag 17/12 om 14u00 in huisvandeMens Bree
URL:https://demens.nu/evenement/infosessie-levenseinde/
LOCATION:lim
CATEGORIES:Workshop
ATTACH;FMTTYPE=image/jpeg:https://demens.nu/wp-content/uploads/2025/12/VZP-WV-yXEce0-scaled.jpg
ORGANIZER;CN="huisvandeMens Bree":MAILTO:bree@demens.nu
END:VEVENT
BEGIN:VEVENT
DTSTART;TZID=Europe/Paris:20251216T200000
DTEND;TZID=Europe/Paris:20251216T220000
DTSTAMP:20260425T175813
CREATED:20251211T102649Z
LAST-MODIFIED:20251215T103704Z
UID:10000123-1765915200-1765922400@demens.nu
SUMMARY:Filmavond Anders in Bree
DESCRIPTION:Heb je nood aan een plek waar je jezelf kan zijn? Anders in Bree is ontstaan voor en door LGBTQIA+-personen en bondgenoten. We spreken maandelijks af in huisvandeMens Bree of op locatie.\nHet jaar sluiten we af met een film in thema. Doe je meest comfortabele outfit aan en kom gezellig meekijken! Wij voorzien de popcorn. Jij zorgt voor de gezelligheid en de fijne babbel.\nDinsdag 16/12 om 20u00\nLocatie: huisvandeMens Bree\, Opitterstraat 20\nMeer info en inschrijven via bree@deMens.nu\, 089 73 05 00 of Messenger
URL:https://demens.nu/evenement/filmavond-anders-in-bree/
LOCATION:lim
CATEGORIES:Film
ATTACH;FMTTYPE=image/png:https://demens.nu/wp-content/uploads/2025/12/Kopie-van-Poster-Anders-in-Bree-Facebook-Cover-djGoDv.png
ORGANIZER;CN="huisvandeMens Bree":MAILTO:bree@demens.nu
END:VEVENT
BEGIN:VEVENT
DTSTART;TZID=Europe/Paris:20251216T190000
DTEND;TZID=Europe/Paris:20251216T210000
DTSTAMP:20260425T175813
CREATED:20251211T102649Z
LAST-MODIFIED:20251215T103529Z
UID:10000122-1765911600-1765918800@demens.nu
SUMMARY:Gespreksgroep rouw
DESCRIPTION:Verlies van een geliefd persoon of iets wat je heel dierbaar is\, is ingrijpend en leidt tot grote veranderingen in je leven. Je wordt overspoeld door gevoelens die je waarschijnlijk nog nooit zo hevig hebt ervaren. Deze gevoelens passen bij het rouwen en helpen jou je wonden verzorgen. Wat doet deze rouw met je? Hoe ga je om met de gevoelens die je ervaart? Wat heb je nodig en wat niet? Wat kunnen bronnen van troost zijn? Tijdens de groepsgesprekken ontmoet je een beperkt aantal lotgenoten\, mensen die net als jij het verlies op een bij ieder passende wijze in het leven willen meedragen. Je bent van harte welkom en vrij om deel te nemen aan het gesprek of om enkel te luisteren.\n“Het leven bestaat uit vele unieke verhalen. Van al die verhalen is er één van jou. Of je wilt of niet\, jij gaat verder in jouw verhaal. De keuze is niet het verhaal\, want dat koos jou. De keuze is hoe het verhaal verder gaat. Wat wordt jouw volgende hoofdstuk? En deze keuze is niet altijd gemakkelijk. Soms kan het fijn zijn als iemand een tijdje met je meeloopt in jouw verhaal om je te steunen”\n-Else van Basten Batenburg-\nDeelname is gratis\, inschrijven gewenst.\nNieuwe deelnemers worden eerst uitgenodigd voor een kennismakingsgesprek met de begeleidster van de rouwgroep.
URL:https://demens.nu/evenement/gespreksgroep-rouw/
LOCATION:lim
CATEGORIES:Rouw
ATTACH;FMTTYPE=image/jpeg:https://demens.nu/wp-content/uploads/2025/12/pexels-tobias-bjorkli-2239490-scaled-iD4uLx.jpg
ORGANIZER;CN="huisvandeMens Lommel":MAILTO:lommel@deMens.nu
END:VEVENT
BEGIN:VEVENT
DTSTART;TZID=Europe/Paris:20251216T143000
DTEND;TZID=Europe/Paris:20251216T163000
DTSTAMP:20260425T175813
CREATED:20251211T102649Z
LAST-MODIFIED:20251215T103324Z
UID:10000115-1765895400-1765902600@demens.nu
SUMMARY:Infosessie Waardig Levenseinde
DESCRIPTION:Tijdens deze infosessie krijg je info over mogelijke beslissingen bij het levenseinde: euthanasie\, weigeren van behandelingen (patiëntenrechten)\, orgaandonatie\, lichaam schenken aan de wetenschap\, uitvaart\, …\nVia wilsverklaringen kan jij de regie over jouw leven en het levenseinde in handen nemen. Het invullen van deze wilsverklaringen is geen kwestie van een paar minuten werk. Er gaat een heel denkproces aan vooraf en dan nog zijn er heel wat vragen…\nhuisvandeMens biedt je een heldere uitleg over hoe de wetgeving in elkaar zit\, overloopt samen met jou de verschillende formulieren en bovendien is er voldoende tijd voor al jouw vragen. \nInschrijven is verplicht!\n– mail: sinttruiden@demens.nu\n– telefonisch: 011 88 41 17 \nPlaatsen zijn beperkt.\nMax. aantal deelnemers: 15
URL:https://demens.nu/evenement/infosessie-waardig-levenseinde/
LOCATION:lim
CATEGORIES:Infosessie
ATTACH;FMTTYPE=image/jpeg:https://demens.nu/wp-content/uploads/2025/12/VZP-foto-9Emf33.jpg
ORGANIZER;CN="huisvandeMens Sint-Truiden":MAILTO:sinttruiden@deMens.nu
END:VEVENT
BEGIN:VEVENT
DTSTART;TZID=Europe/Paris:20251216T140000
DTEND;TZID=Europe/Paris:20251216T160000
DTSTAMP:20260425T175813
CREATED:20251211T102649Z
LAST-MODIFIED:20251215T102840Z
UID:10000120-1765893600-1765900800@demens.nu
SUMMARY:Gezellige dinsdag
DESCRIPTION:Warme winter – dinsdag 16/12 – 14u tot 16u (Genk)\nKom jij je ook innerlijk verwarmen tijdens onze gezellige namiddag bij een knisperend vuurtje\, een heerlijk drankje\, een verrassende versnapering en ontwapende gesprekjes? Samen bouwen we de inwendige energie wat op om de donkerste dagen van het jaar te overbruggen. Iedereen is welkom\, maar graag wel even inschrijven via: genk@deMens.nu.
URL:https://demens.nu/evenement/gezellige-dinsdag/
LOCATION:lim
CATEGORIES:Ontmoeting
ORGANIZER;CN="huisvandeMens Genk":MAILTO:genk@demens.nu
END:VEVENT
BEGIN:VEVENT
DTSTART;TZID=Europe/Paris:20251216T140000
DTEND;TZID=Europe/Paris:20251216T160000
DTSTAMP:20260425T175813
CREATED:20251211T102649Z
LAST-MODIFIED:20251215T102928Z
UID:10000121-1765893600-1765900800@demens.nu
SUMMARY:Bijeenkomst 'Hart in rouw'
DESCRIPTION:We wilden nog zoveel…\nPlots werd het stil…\nIn mijn hart zit een leegte\,\ndie leegte dat ben jij.\nHet gemis zo voelbaar\nzo pijnlijk dichtbij. \nWij zijn lotgenoten die een dierbare verloren door overlijden.\nWe vonden steun bij elkaar en willen dit verder zetten.\nOnze verhalen blijven delen\, een luisterend oor zijn voor elkaar. \nElke derde dinsdag van de maand komen we samen om 14 uur. Telkens is er een centraal thema waarover we praten.\nSpring gerust eens binnen op één van onze samenkomsten om kennis te maken. Iedereen die een dierbare verloren heeft door overlijden is welkom. Inschrijven is niet nodig.
URL:https://demens.nu/evenement/bijeenkomst-hart-in-rouw/
LOCATION:lim
CATEGORIES:Ontmoeting
ATTACH;FMTTYPE=image/jpeg:https://demens.nu/wp-content/uploads/2025/12/0851515d91c227b238f_symboliek-hart-in-handen-H6vYTw.jpg
ORGANIZER;CN="Hart in rouw":MAILTO:2lmachiels@gmail.com
END:VEVENT
BEGIN:VEVENT
DTSTART;TZID=Europe/Paris:20251216T140000
DTEND;TZID=Europe/Paris:20251216T160000
DTSTAMP:20260425T175813
CREATED:20251211T102649Z
LAST-MODIFIED:20251215T102653Z
UID:10000116-1765893600-1765900800@demens.nu
SUMMARY:Lotgenotengroep rouw - December
DESCRIPTION:Van november tot maart nemen we maandelijks een namiddag de tijd om in kleine groep samen te komen en te praten\, herinneringen op te halen en steun te vinden na het verlies van een dierbare door overlijden. Iedereen is welkom\, maar inschrijven is per namiddag wel verplicht door het beperkt aantal plaatsen via maasmechelen@deMens.nu of 089 77 74 21.\nWanneer: 16/12\, 27/1\, 24/2 en 31/3\, telkens van 14-16u. Deelname is gratis\nDeze lotgenotengroep kwam tot stand dankzij een samenwerking tussen SAAMO\, SOMA en huisvandeMens Maasmechelen\nHeb je liever een individueel gesprek? Ook dat kan! (op afspraak)
URL:https://demens.nu/evenement/lotgenotengroep-rouw-december/
LOCATION:lim
CATEGORIES:Ontmoeting,Rouw
ATTACH;FMTTYPE=image/jpeg:https://demens.nu/wp-content/uploads/2025/12/554046493_1235558241944110_5012392874636877433_n-69O3sx.jpg
ORGANIZER;CN="huisvandemens Maasmechelen":MAILTO:maasmechelen@deMens.nu
END:VEVENT
BEGIN:VEVENT
DTSTART;TZID=Europe/Paris:20251215T190000
DTEND;TZID=Europe/Paris:20251215T210000
DTSTAMP:20260425T175813
CREATED:20251211T102649Z
LAST-MODIFIED:20251215T102548Z
UID:10000119-1765825200-1765832400@demens.nu
SUMMARY:Voordracht Een waardig levenseinde
DESCRIPTION:Wat betekent het om waardig te leven én waardig te sterven? Professor Wim Distelmans\, arts en pionier in palliatieve zorg en ethiek\, gaat in op actuele vragen rond autonomie\, euthanasie en zinvol levenseinde.\nEen boeiende en empathische lezing -georganiseerd door Vrijzinnig Aalst en het HuisvandeMens Aalst- die uitnodigt tot reflectie én dialoog.\nGraag inschrijven via de link:https://forms.gle/jMy8QX5JLvmPfYkdA \, en betalen vooraf op rekeningnummer BE54 8940 0072 3197 met vermelding ‘Distelmans’. Inschrijving is pas definitief na betaling. Deelname: €10. HV-leden: €8.\nEen attest voor je werk nodig? Vink dat dan aan op het inschrijvingsformulier
URL:https://demens.nu/evenement/voordracht-een-waardig-levenseinde/
LOCATION:lim
CATEGORIES:Lezing
END:VEVENT
BEGIN:VEVENT
DTSTART;TZID=Europe/Paris:20251215T140000
DTEND;TZID=Europe/Paris:20251215T160000
DTSTAMP:20260425T175813
CREATED:20251211T102649Z
LAST-MODIFIED:20251215T060827Z
UID:10000118-1765807200-1765814400@demens.nu
SUMMARY:Infosessies wilsverklaringen
DESCRIPTION:Inhoud?\nIedereen heeft recht op een waardig levenseinde\, maar hoe moet dat dan precies?  Wist je dat je voorafgaand een aantal bepalingen en wensen kan vastleggen voor de toekomst\, wanneer je je wensen niet meer zelf kan uiten? Dit wordt voorafgaande zorgplanning genoemd. In het huisvandeMens kan je terecht voor informatie over de wetgeving en over mogelijke beslissingen bij het levenseinde: euthanasie\, weigeren van behandelingen\, orgaandonatie\, je lichaam schenken aan de wetenschap\, uitvaart. Wij bieden ook praktische ondersteuning bij het invullen van de voorafgaande wilsverklaringen.\nWanneer?\nElke eerste en derde maandag van de maand om 14 uur  in het huisvandeMens in Aalst. Lukt dat niet voor jou? Contacteer ons dan voor een huisbezoek of een afspraak op een ander moment.\nInschrijven?\nTelefonisch: 053 77 54 44 of via mail: aalst@demens.nu
URL:https://demens.nu/evenement/infosessies-wilsverklaringen/
LOCATION:lim
CATEGORIES:Infosessie
ATTACH;FMTTYPE=image/png:https://demens.nu/wp-content/uploads/2025/12/wilsverklaringen-voorkant-JPybHq.png
ORGANIZER;CN="huisvandeMens Aalst":MAILTO:aalst@demens.nu
END:VEVENT
BEGIN:VEVENT
DTSTART;TZID=Europe/Paris:20251215T133000
DTEND;TZID=Europe/Paris:20251215T153000
DTSTAMP:20260425T175813
CREATED:20251211T102649Z
LAST-MODIFIED:20260128T184446Z
UID:10000114-1765805400-1765812600@demens.nu
SUMMARY:Troostkussens maken
DESCRIPTION:Deze mooie troostkussens worden gegeven aan kinderen die nood hebben aan troost bij het overlijden van een dierbare persoon\, de scheiding van ouders\, veranderen van school en alle andere ingrijpende veranderingen in het leven van een kind. Kom jij mee een zachte steun in moeilijke tijden haken om aan deze kinderen te geven ? Materialen worden voorzien door het huisvandeMens. Je mag natuurlijk je eigen haaknaald meebrengen.
URL:https://demens.nu/evenement/troostkussens-maken/
LOCATION:lim
CATEGORIES:Workshop
ATTACH;FMTTYPE=image/jpeg:https://demens.nu/wp-content/uploads/2025/12/wereldl-2-2rt7pP.jpg
ORGANIZER;CN="huisvandeMens Lommel":MAILTO:lommel@deMens.nu
END:VEVENT
BEGIN:VEVENT
DTSTART;TZID=Europe/Paris:20251215T090000
DTEND;TZID=Europe/Paris:20251215T180000
DTSTAMP:20260425T175813
CREATED:20251212T051242Z
LAST-MODIFIED:20251215T060512Z
UID:10000124-1765789200-1765821600@demens.nu
SUMMARY:TEST AALST
DESCRIPTION:
URL:https://demens.nu/evenement/test-aalst/
LOCATION:lim
END:VEVENT
BEGIN:VEVENT
DTSTART;TZID=Europe/Paris:20251214T190000
DTEND;TZID=Europe/Paris:20251214T233000
DTSTAMP:20260425T175813
CREATED:20251211T102648Z
LAST-MODIFIED:20251211T103010Z
UID:10000112-1765738800-1765755000@demens.nu
SUMMARY:Wereldlichtjesdag Lommel
DESCRIPTION:Tijdens Wereldlichtjesdag herdenken we alle overleden kinderen met een kaarsje. In Lommel organiseren we een centraal kaarsjesmoment in het Huis van de Stad. Iedereen die een kind verloor of ouders\, nabestaanden… een hart onder de riem wil steken kan die zondag om 19u een kaarsje komen aansteken.\nUiteraard kan iedereen ook van thuis uit een blijk van medeleven tonen. Plaats 14 december om 19u een kaarsje voor je raam om overleden kinderen te herdenken. Zo branden er die avond niet enkel warme hoopvolle lichtjes bij het stadhuis\, maar ook in de straten van Lommel…\nMeer info: tel 011 340 540 of lommel@deMens.nu
URL:https://demens.nu/evenement/wereldlichtjesdag-lommel/
LOCATION:lim
CATEGORIES:Andere
ATTACH;FMTTYPE=image/jpeg:https://demens.nu/wp-content/uploads/2025/12/wereldlichtjesdag-25-uAtiRq.jpg
ORGANIZER;CN="huisvandeMens Lommel":MAILTO:lommel@deMens.nu
END:VEVENT
BEGIN:VEVENT
DTSTART;TZID=Europe/Paris:20251214T183000
DTEND;TZID=Europe/Paris:20251214T193000
DTSTAMP:20260425T175813
CREATED:20251211T102648Z
LAST-MODIFIED:20251212T094128Z
UID:10000111-1765737000-1765740600@demens.nu
SUMMARY:Wereldlichtjesdag
DESCRIPTION:Op Wereldlichtjesdag staan we stil bij alle overleden kinderen. We herdenken hen met warme teksten\, muziek en licht. Het wordt een ingetogen moment van troost en verbondenheid. Familie en vrienden van overleden kinderen\, en iedereen die hen wil ondersteunen\, zijn welkom. Na de herdenking maken we tijd voor een drankje en een warme babbel.\nKan je niet aanwezig zijn\, maar wil je wel deelnemen? Plaats dan op 14 december een kaarsje aan je voorgevel. Dit is een initiatief van Stad Roeselare in samenwerking met Oud­ers Van een Overl­eden Kind\, huisvandeMens Roeselare\, AZ Delta\, CM Gezondheidsfonds en de werkgroep Sterrenkinderen.
URL:https://demens.nu/evenement/wereldlichtjesdag/
LOCATION:lim
CATEGORIES:wereldlichtjesdag
ATTACH;FMTTYPE=image/jpeg:https://demens.nu/wp-content/uploads/2025/12/themafoto-wereldlichtjesdag-scaled-y6yNdo.jpg
END:VEVENT
BEGIN:VEVENT
DTSTART;TZID=Europe/Paris:20251214T183000
DTEND;TZID=Europe/Paris:20251214T193000
DTSTAMP:20260425T175813
CREATED:20251211T102648Z
LAST-MODIFIED:20251212T094049Z
UID:10000108-1765737000-1765740600@demens.nu
SUMMARY:Wereldlichtjesdag
DESCRIPTION:Op Wereldlichtjesdag klokslag 19u steken mensen over de hele wereld kaarsen aan. De wereld wordt zo letterlijk even wat lichter voor mensen die een kind verloren. Heb je zelf een (klein)kind\, broer of zus verloren? Of wil je rouwende families steunen? Steek dan ook een kaarsje aan en herdenk samen met ons ieder overleden kind.\nWelkom voor een intiem en warm herdenkingsmoment aan het Land van Vlierbos\, in het Provinciedomein IJzerboomgaard in Diksmuide.\nOm 18:30 gaan we van start.\nDeelnemen is gratis en iedereen is welkom.\nDit is een samenwerking tussen Jeugddienst Diksmuide\, Huis van het Kind en huisvandeMens Diksmuide
URL:https://demens.nu/evenement/wereldlichtjesdag-in-diksmuide/
LOCATION:lim
CATEGORIES:wereldlichtjesdag
ATTACH;FMTTYPE=image/jpeg:https://demens.nu/wp-content/uploads/2025/12/themafoto-wereldlichtjesdag-scaled-y6yNdo.jpg
ORGANIZER;CN="huisvandeMens Diksmuide":MAILTO:diksmuide@deMens.nu
END:VEVENT
BEGIN:VEVENT
DTSTART;TZID=Europe/Paris:20251214T183000
DTEND;TZID=Europe/Paris:20251214T193000
DTSTAMP:20260425T175813
CREATED:20251211T102647Z
LAST-MODIFIED:20251212T094920Z
UID:10000107-1765737000-1765740600@demens.nu
SUMMARY:Wereldlichtjesdag Ronse
DESCRIPTION:Zondag 14/12/2025 – 18u30 t/m 19u30 HuisvandeMens Ronse\, Zuidstraat 13 Gratis Graag een seintje als je komt: ronse@demens.nu of 055/21.49.69\nIeder jaar komen wereldwijd mensen bij elkaar om op de tweede zondag in december overleden kinderen te herdenken. Zo ook wij. Om 19u steken we een kaarsje aan en zeggen we hun naam.\nDoor de verschillende tijdszones in de wereld ontstaat hierdoor een golf van licht\, zodat de wereld een beetje lichter wordt voor wie een kind of kinderen heeft verloren. Een verbindend moment met de kinderen die we missen\, hoe jong of oud ze ook zijn\, omdat ouders\, grootouders\, broers en zussen niet alleen zijn met hun verdriet.\nWe komen samen in het huisvandeMens Ronse waar we stilstaan bij getuigenissen en gedichten van Doris Dorné\, waar we ons laten raken en verwarmen door de muziek van Joachim Wannyn en Jeroen Vanhoorne.\nDit moment is voor iedereen die een kaarsje wil branden voor een overleden kind en/of wil delen in het herinneringsmoment.\nLaat ons weten wie je wilt herinneren. Neem iets persoonlijk mee\, bv. een foto\, en laat weten als je zelf iets wil zeggen of laten voorlezen.
URL:https://demens.nu/evenement/wereldlichtjesdag-ronse/
LOCATION:lim
CATEGORIES:wereldlichtjesdag
ATTACH;FMTTYPE=image/jpeg:https://demens.nu/wp-content/uploads/2025/12/Lichtjes-omslag-scaled-DaY06D.jpg
END:VEVENT
BEGIN:VEVENT
DTSTART;TZID=Europe/Paris:20251214T183000
DTEND;TZID=Europe/Paris:20251214T183000
DTSTAMP:20260425T175813
CREATED:20251211T102649Z
LAST-MODIFIED:20251212T094818Z
UID:10000113-1765737000-1765737000@demens.nu
SUMMARY:Wereldlichtjesdag
DESCRIPTION:Op Wereldlichtjesdag klokslag 19u steken mensen over de hele wereld kaarsen aan. De wereld wordt zo letterlijk even wat lichter voor mensen die een kind verloren. Heb je zelf een (klein)kind\, broer of zus verloren? Of wil je rouwende families steunen? Steek dan ook een kaarsje aan en herdenk samen met ons ieder overleden kind.\nIn het huisvandeMens Ieper organiseren wij een herdenkingsmoment. De plechtigheid start om 18u30 met aansluitend een kaarsjesmoment om 19u. Muzikale omkadering door Michiel Buseyne.\nToegang is gratis\, graag wel een seintje vooraf op 057 23 06 30 of via ieper@demens.nu
URL:https://demens.nu/evenement/wereldlichtjesdag-in-ieper/
LOCATION:lim
CATEGORIES:wereldlichtjesdag
ATTACH;FMTTYPE=image/jpeg:https://demens.nu/wp-content/uploads/2025/12/themafoto-wereldlichtjesdag-scaled-y6yNdo.jpg
END:VEVENT
BEGIN:VEVENT
DTSTART;TZID=Europe/Paris:20251214T163000
DTEND;TZID=Europe/Paris:20251214T193000
DTSTAMP:20260425T175813
CREATED:20251211T102648Z
LAST-MODIFIED:20251212T094954Z
UID:10000109-1765729800-1765740600@demens.nu
SUMMARY:Wereldlichtjesdag
DESCRIPTION:Op Wereldlichtjesdag klokslag 19u steken mensen over de hele wereld kaarsen aan. De wereld wordt zo letterlijk even wat lichter voor mensen die een kind verloren. Heb je zelf een (klein)kind\, broer of zus verloren? Of wil je rouwende families steunen? Steek dan ook een kaarsje aan en herdenk samen met ons ieder overleden kind.\nEen warm lichtje voor alle overleden kinderen.\n16:30 uur Koestermarkt aan het Koesterhuis\n18:20 uur: Lichtjeswandeling van Het Koesterhuis naar VC Mozaïek\n18:35 uur Rituaal met woord en muziek\n19:00 uur: Lichtjesmoment\nVrije toegang – Graag inschrijven via 056/25.27.51 of kortrijk@demens.nu
URL:https://demens.nu/evenement/wereldlichtjesdag-in-kortrijk/
LOCATION:lim
CATEGORIES:wereldlichtjesdag
ATTACH;FMTTYPE=image/jpeg:https://demens.nu/wp-content/uploads/2025/12/themafoto-wereldlichtjesdag-scaled-y6yNdo.jpg
ORGANIZER;CN="huisvandemens Kortrijk":MAILTO:kortrijk@demens.nu
END:VEVENT
BEGIN:VEVENT
DTSTART;TZID=Europe/Paris:20251214T160000
DTEND;TZID=Europe/Paris:20251214T190000
DTSTAMP:20260425T175813
CREATED:20251211T102648Z
LAST-MODIFIED:20251212T094728Z
UID:10000110-1765728000-1765738800@demens.nu
SUMMARY:Wereldlichtjesdag - Koesterweek
DESCRIPTION:Van 12 tot 19 december is het Koesterweek van het Berrefonds. Tijdens die week staan we stil bij iedereen die een (klein)kind moet missen. Als Koesterstad wil Halle warmte\, troost en verbondenheid bieden. Daarom organiseert de stad samen met huisvandeMens en Don Bosco Zennedal en betrokken Hallenaren hartverwarmende activiteiten.\nEen hartje voor elk kind\nVanaf 26 november kan je op verschillende plekken in Halle een houten hartje halen om daarop de naam te schrijven van een kindje dat wordt gemist. Je kan het hartje een mooie plek geven thuis\, of naar een van de koesterplekken brengen in Halle: de begraafplaatsen van Halle en Essenbeek\, het Mariahof of Don Bosco Zennedal.\nTijdens de Koesterweek willen we ook zoveel mogelijk hartjes in het straatbeeld zien. Hang een affiche of kleurplaat van het Berrefonds aan je raam als teken van steun. Die kan je downloaden via www.koesterweek.be of halen op verschillende plekken in Halle (zie hieronder). Je kan je hartjes of kleurplaten ook binnenbrengen op dezelfde locaties. Hiermee kleden we de Oude Post dan sfeervol aan op Wereldlichtjesdag.\nPraktisch:\nOp de volgende locaties kan je vanaf 26 november houten hartjes\, affiches en kleurplaten ophalen. Je kan hier ook je afgewerkte kunstwerken binnenbrengen tot en met 8 december.\nStadhuis Halle\nhuisvandeMens\nJC De Kazerne\nBibliotheek Halle\nDon Bosco Zennedal\nSamenkomen en herdenken\nOp de volgende momenten maken we samen ruimte voor herinnering\, troost en hoop.\nWoensdag 10 december van 14u tot 16u30\nIedereen is welkom vanaf 14u in Don Bosco Zennedal (Alsembergsesteenweg 130) om samen lampions te knutselen voor Wereldlichtjesdag. Je kan er luisteren naar verhalen en genieten van verse pannenkoeken.\nZondag 14 december – Wereldlichtjesdag\nVanaf 16u ben je welkom in de Oude Post. We starten met een warm drankje\, kinderen kunnen er knutselen en je kan ook houten hartjes graveren. Om 17u begint een begeleide rouwwandeling met het Rouwcollectief (inschrijven via gelijkekansen@halle.be of het inschrijfformulier). Onderweg nemen we de tijd om letterlijk en figuurlijk stil te staan bij ons gemis. Rond 18u30 sluiten we af met een kom soep in de Oude Post.\nOm 19u zorgen we voor licht door een kaars aan te steken\, thuis of samen met anderen\, als teken van verbondenheid. Deel hiervan een foto op Facebook of Instagram. Zo zorgen we voor een golf van licht als steun voor alle ouders die een kind herdenken.
URL:https://demens.nu/evenement/wereldlichtjesdag-koesterweek-halle/
LOCATION:lim
CATEGORIES:Ontmoeting,Rouw,Wandeling,wereldlichtjesdag
ORGANIZER;CN="huisvandeMens Halle":MAILTO:halle@demens.nu
END:VEVENT
END:VCALENDAR