BEGIN:VCALENDAR
VERSION:2.0
PRODID:-//demens.nu - ECPv6.15.20//NONSGML v1.0//EN
CALSCALE:GREGORIAN
METHOD:PUBLISH
X-ORIGINAL-URL:https://demens.nu
X-WR-CALDESC:Evenementen voor demens.nu
REFRESH-INTERVAL;VALUE=DURATION:PT1H
X-Robots-Tag:noindex
X-PUBLISHED-TTL:PT1H
BEGIN:VTIMEZONE
TZID:Europe/Paris
BEGIN:DAYLIGHT
TZOFFSETFROM:+0100
TZOFFSETTO:+0200
TZNAME:CEST
DTSTART:20240331T010000
END:DAYLIGHT
BEGIN:STANDARD
TZOFFSETFROM:+0200
TZOFFSETTO:+0100
TZNAME:CET
DTSTART:20241027T010000
END:STANDARD
BEGIN:DAYLIGHT
TZOFFSETFROM:+0100
TZOFFSETTO:+0200
TZNAME:CEST
DTSTART:20250330T010000
END:DAYLIGHT
BEGIN:STANDARD
TZOFFSETFROM:+0200
TZOFFSETTO:+0100
TZNAME:CET
DTSTART:20251026T010000
END:STANDARD
BEGIN:DAYLIGHT
TZOFFSETFROM:+0100
TZOFFSETTO:+0200
TZNAME:CEST
DTSTART:20260329T010000
END:DAYLIGHT
BEGIN:STANDARD
TZOFFSETFROM:+0200
TZOFFSETTO:+0100
TZNAME:CET
DTSTART:20261025T010000
END:STANDARD
END:VTIMEZONE
BEGIN:VEVENT
DTSTART;TZID=Europe/Paris:20251215T133000
DTEND;TZID=Europe/Paris:20251215T153000
DTSTAMP:20260425T193135
CREATED:20251211T102649Z
LAST-MODIFIED:20260128T184446Z
UID:10000114-1765805400-1765812600@demens.nu
SUMMARY:Troostkussens maken
DESCRIPTION:Deze mooie troostkussens worden gegeven aan kinderen die nood hebben aan troost bij het overlijden van een dierbare persoon\, de scheiding van ouders\, veranderen van school en alle andere ingrijpende veranderingen in het leven van een kind. Kom jij mee een zachte steun in moeilijke tijden haken om aan deze kinderen te geven ? Materialen worden voorzien door het huisvandeMens. Je mag natuurlijk je eigen haaknaald meebrengen.
URL:https://demens.nu/evenement/troostkussens-maken/
LOCATION:lim
CATEGORIES:Workshop
ATTACH;FMTTYPE=image/jpeg:https://demens.nu/wp-content/uploads/2025/12/wereldl-2-2rt7pP.jpg
ORGANIZER;CN="huisvandeMens Lommel":MAILTO:lommel@deMens.nu
END:VEVENT
BEGIN:VEVENT
DTSTART;TZID=Europe/Paris:20251215T090000
DTEND;TZID=Europe/Paris:20251215T180000
DTSTAMP:20260425T193135
CREATED:20251212T051242Z
LAST-MODIFIED:20251215T060512Z
UID:10000124-1765789200-1765821600@demens.nu
SUMMARY:TEST AALST
DESCRIPTION:
URL:https://demens.nu/evenement/test-aalst/
LOCATION:lim
END:VEVENT
BEGIN:VEVENT
DTSTART;TZID=Europe/Paris:20251214T190000
DTEND;TZID=Europe/Paris:20251214T233000
DTSTAMP:20260425T193135
CREATED:20251211T102648Z
LAST-MODIFIED:20251211T103010Z
UID:10000112-1765738800-1765755000@demens.nu
SUMMARY:Wereldlichtjesdag Lommel
DESCRIPTION:Tijdens Wereldlichtjesdag herdenken we alle overleden kinderen met een kaarsje. In Lommel organiseren we een centraal kaarsjesmoment in het Huis van de Stad. Iedereen die een kind verloor of ouders\, nabestaanden… een hart onder de riem wil steken kan die zondag om 19u een kaarsje komen aansteken.\nUiteraard kan iedereen ook van thuis uit een blijk van medeleven tonen. Plaats 14 december om 19u een kaarsje voor je raam om overleden kinderen te herdenken. Zo branden er die avond niet enkel warme hoopvolle lichtjes bij het stadhuis\, maar ook in de straten van Lommel…\nMeer info: tel 011 340 540 of lommel@deMens.nu
URL:https://demens.nu/evenement/wereldlichtjesdag-lommel/
LOCATION:lim
CATEGORIES:Andere
ATTACH;FMTTYPE=image/jpeg:https://demens.nu/wp-content/uploads/2025/12/wereldlichtjesdag-25-uAtiRq.jpg
ORGANIZER;CN="huisvandeMens Lommel":MAILTO:lommel@deMens.nu
END:VEVENT
BEGIN:VEVENT
DTSTART;TZID=Europe/Paris:20251214T183000
DTEND;TZID=Europe/Paris:20251214T193000
DTSTAMP:20260425T193135
CREATED:20251211T102648Z
LAST-MODIFIED:20251212T094128Z
UID:10000111-1765737000-1765740600@demens.nu
SUMMARY:Wereldlichtjesdag
DESCRIPTION:Op Wereldlichtjesdag staan we stil bij alle overleden kinderen. We herdenken hen met warme teksten\, muziek en licht. Het wordt een ingetogen moment van troost en verbondenheid. Familie en vrienden van overleden kinderen\, en iedereen die hen wil ondersteunen\, zijn welkom. Na de herdenking maken we tijd voor een drankje en een warme babbel.\nKan je niet aanwezig zijn\, maar wil je wel deelnemen? Plaats dan op 14 december een kaarsje aan je voorgevel. Dit is een initiatief van Stad Roeselare in samenwerking met Oud­ers Van een Overl­eden Kind\, huisvandeMens Roeselare\, AZ Delta\, CM Gezondheidsfonds en de werkgroep Sterrenkinderen.
URL:https://demens.nu/evenement/wereldlichtjesdag/
LOCATION:lim
CATEGORIES:wereldlichtjesdag
ATTACH;FMTTYPE=image/jpeg:https://demens.nu/wp-content/uploads/2025/12/themafoto-wereldlichtjesdag-scaled-y6yNdo.jpg
END:VEVENT
BEGIN:VEVENT
DTSTART;TZID=Europe/Paris:20251214T183000
DTEND;TZID=Europe/Paris:20251214T193000
DTSTAMP:20260425T193135
CREATED:20251211T102648Z
LAST-MODIFIED:20251212T094049Z
UID:10000108-1765737000-1765740600@demens.nu
SUMMARY:Wereldlichtjesdag
DESCRIPTION:Op Wereldlichtjesdag klokslag 19u steken mensen over de hele wereld kaarsen aan. De wereld wordt zo letterlijk even wat lichter voor mensen die een kind verloren. Heb je zelf een (klein)kind\, broer of zus verloren? Of wil je rouwende families steunen? Steek dan ook een kaarsje aan en herdenk samen met ons ieder overleden kind.\nWelkom voor een intiem en warm herdenkingsmoment aan het Land van Vlierbos\, in het Provinciedomein IJzerboomgaard in Diksmuide.\nOm 18:30 gaan we van start.\nDeelnemen is gratis en iedereen is welkom.\nDit is een samenwerking tussen Jeugddienst Diksmuide\, Huis van het Kind en huisvandeMens Diksmuide
URL:https://demens.nu/evenement/wereldlichtjesdag-in-diksmuide/
LOCATION:lim
CATEGORIES:wereldlichtjesdag
ATTACH;FMTTYPE=image/jpeg:https://demens.nu/wp-content/uploads/2025/12/themafoto-wereldlichtjesdag-scaled-y6yNdo.jpg
ORGANIZER;CN="huisvandeMens Diksmuide":MAILTO:diksmuide@deMens.nu
END:VEVENT
BEGIN:VEVENT
DTSTART;TZID=Europe/Paris:20251214T183000
DTEND;TZID=Europe/Paris:20251214T193000
DTSTAMP:20260425T193135
CREATED:20251211T102647Z
LAST-MODIFIED:20251212T094920Z
UID:10000107-1765737000-1765740600@demens.nu
SUMMARY:Wereldlichtjesdag Ronse
DESCRIPTION:Zondag 14/12/2025 – 18u30 t/m 19u30 HuisvandeMens Ronse\, Zuidstraat 13 Gratis Graag een seintje als je komt: ronse@demens.nu of 055/21.49.69\nIeder jaar komen wereldwijd mensen bij elkaar om op de tweede zondag in december overleden kinderen te herdenken. Zo ook wij. Om 19u steken we een kaarsje aan en zeggen we hun naam.\nDoor de verschillende tijdszones in de wereld ontstaat hierdoor een golf van licht\, zodat de wereld een beetje lichter wordt voor wie een kind of kinderen heeft verloren. Een verbindend moment met de kinderen die we missen\, hoe jong of oud ze ook zijn\, omdat ouders\, grootouders\, broers en zussen niet alleen zijn met hun verdriet.\nWe komen samen in het huisvandeMens Ronse waar we stilstaan bij getuigenissen en gedichten van Doris Dorné\, waar we ons laten raken en verwarmen door de muziek van Joachim Wannyn en Jeroen Vanhoorne.\nDit moment is voor iedereen die een kaarsje wil branden voor een overleden kind en/of wil delen in het herinneringsmoment.\nLaat ons weten wie je wilt herinneren. Neem iets persoonlijk mee\, bv. een foto\, en laat weten als je zelf iets wil zeggen of laten voorlezen.
URL:https://demens.nu/evenement/wereldlichtjesdag-ronse/
LOCATION:lim
CATEGORIES:wereldlichtjesdag
ATTACH;FMTTYPE=image/jpeg:https://demens.nu/wp-content/uploads/2025/12/Lichtjes-omslag-scaled-DaY06D.jpg
END:VEVENT
BEGIN:VEVENT
DTSTART;TZID=Europe/Paris:20251214T183000
DTEND;TZID=Europe/Paris:20251214T183000
DTSTAMP:20260425T193135
CREATED:20251211T102649Z
LAST-MODIFIED:20251212T094818Z
UID:10000113-1765737000-1765737000@demens.nu
SUMMARY:Wereldlichtjesdag
DESCRIPTION:Op Wereldlichtjesdag klokslag 19u steken mensen over de hele wereld kaarsen aan. De wereld wordt zo letterlijk even wat lichter voor mensen die een kind verloren. Heb je zelf een (klein)kind\, broer of zus verloren? Of wil je rouwende families steunen? Steek dan ook een kaarsje aan en herdenk samen met ons ieder overleden kind.\nIn het huisvandeMens Ieper organiseren wij een herdenkingsmoment. De plechtigheid start om 18u30 met aansluitend een kaarsjesmoment om 19u. Muzikale omkadering door Michiel Buseyne.\nToegang is gratis\, graag wel een seintje vooraf op 057 23 06 30 of via ieper@demens.nu
URL:https://demens.nu/evenement/wereldlichtjesdag-in-ieper/
LOCATION:lim
CATEGORIES:wereldlichtjesdag
ATTACH;FMTTYPE=image/jpeg:https://demens.nu/wp-content/uploads/2025/12/themafoto-wereldlichtjesdag-scaled-y6yNdo.jpg
END:VEVENT
BEGIN:VEVENT
DTSTART;TZID=Europe/Paris:20251214T163000
DTEND;TZID=Europe/Paris:20251214T193000
DTSTAMP:20260425T193135
CREATED:20251211T102648Z
LAST-MODIFIED:20251212T094954Z
UID:10000109-1765729800-1765740600@demens.nu
SUMMARY:Wereldlichtjesdag
DESCRIPTION:Op Wereldlichtjesdag klokslag 19u steken mensen over de hele wereld kaarsen aan. De wereld wordt zo letterlijk even wat lichter voor mensen die een kind verloren. Heb je zelf een (klein)kind\, broer of zus verloren? Of wil je rouwende families steunen? Steek dan ook een kaarsje aan en herdenk samen met ons ieder overleden kind.\nEen warm lichtje voor alle overleden kinderen.\n16:30 uur Koestermarkt aan het Koesterhuis\n18:20 uur: Lichtjeswandeling van Het Koesterhuis naar VC Mozaïek\n18:35 uur Rituaal met woord en muziek\n19:00 uur: Lichtjesmoment\nVrije toegang – Graag inschrijven via 056/25.27.51 of kortrijk@demens.nu
URL:https://demens.nu/evenement/wereldlichtjesdag-in-kortrijk/
LOCATION:lim
CATEGORIES:wereldlichtjesdag
ATTACH;FMTTYPE=image/jpeg:https://demens.nu/wp-content/uploads/2025/12/themafoto-wereldlichtjesdag-scaled-y6yNdo.jpg
ORGANIZER;CN="huisvandemens Kortrijk":MAILTO:kortrijk@demens.nu
END:VEVENT
BEGIN:VEVENT
DTSTART;TZID=Europe/Paris:20251214T160000
DTEND;TZID=Europe/Paris:20251214T190000
DTSTAMP:20260425T193135
CREATED:20251211T102648Z
LAST-MODIFIED:20251212T094728Z
UID:10000110-1765728000-1765738800@demens.nu
SUMMARY:Wereldlichtjesdag - Koesterweek
DESCRIPTION:Van 12 tot 19 december is het Koesterweek van het Berrefonds. Tijdens die week staan we stil bij iedereen die een (klein)kind moet missen. Als Koesterstad wil Halle warmte\, troost en verbondenheid bieden. Daarom organiseert de stad samen met huisvandeMens en Don Bosco Zennedal en betrokken Hallenaren hartverwarmende activiteiten.\nEen hartje voor elk kind\nVanaf 26 november kan je op verschillende plekken in Halle een houten hartje halen om daarop de naam te schrijven van een kindje dat wordt gemist. Je kan het hartje een mooie plek geven thuis\, of naar een van de koesterplekken brengen in Halle: de begraafplaatsen van Halle en Essenbeek\, het Mariahof of Don Bosco Zennedal.\nTijdens de Koesterweek willen we ook zoveel mogelijk hartjes in het straatbeeld zien. Hang een affiche of kleurplaat van het Berrefonds aan je raam als teken van steun. Die kan je downloaden via www.koesterweek.be of halen op verschillende plekken in Halle (zie hieronder). Je kan je hartjes of kleurplaten ook binnenbrengen op dezelfde locaties. Hiermee kleden we de Oude Post dan sfeervol aan op Wereldlichtjesdag.\nPraktisch:\nOp de volgende locaties kan je vanaf 26 november houten hartjes\, affiches en kleurplaten ophalen. Je kan hier ook je afgewerkte kunstwerken binnenbrengen tot en met 8 december.\nStadhuis Halle\nhuisvandeMens\nJC De Kazerne\nBibliotheek Halle\nDon Bosco Zennedal\nSamenkomen en herdenken\nOp de volgende momenten maken we samen ruimte voor herinnering\, troost en hoop.\nWoensdag 10 december van 14u tot 16u30\nIedereen is welkom vanaf 14u in Don Bosco Zennedal (Alsembergsesteenweg 130) om samen lampions te knutselen voor Wereldlichtjesdag. Je kan er luisteren naar verhalen en genieten van verse pannenkoeken.\nZondag 14 december – Wereldlichtjesdag\nVanaf 16u ben je welkom in de Oude Post. We starten met een warm drankje\, kinderen kunnen er knutselen en je kan ook houten hartjes graveren. Om 17u begint een begeleide rouwwandeling met het Rouwcollectief (inschrijven via gelijkekansen@halle.be of het inschrijfformulier). Onderweg nemen we de tijd om letterlijk en figuurlijk stil te staan bij ons gemis. Rond 18u30 sluiten we af met een kom soep in de Oude Post.\nOm 19u zorgen we voor licht door een kaars aan te steken\, thuis of samen met anderen\, als teken van verbondenheid. Deel hiervan een foto op Facebook of Instagram. Zo zorgen we voor een golf van licht als steun voor alle ouders die een kind herdenken.
URL:https://demens.nu/evenement/wereldlichtjesdag-koesterweek-halle/
LOCATION:lim
CATEGORIES:Ontmoeting,Rouw,Wandeling,wereldlichtjesdag
ORGANIZER;CN="huisvandeMens Halle":MAILTO:halle@demens.nu
END:VEVENT
END:VCALENDAR