BEGIN:VCALENDAR
VERSION:2.0
PRODID:-//demens.nu - ECPv6.15.20//NONSGML v1.0//EN
CALSCALE:GREGORIAN
METHOD:PUBLISH
X-WR-CALNAME:demens.nu
X-ORIGINAL-URL:https://demens.nu
X-WR-CALDESC:Evenementen voor demens.nu
REFRESH-INTERVAL;VALUE=DURATION:PT1H
X-Robots-Tag:noindex
X-PUBLISHED-TTL:PT1H
BEGIN:VTIMEZONE
TZID:Europe/Paris
BEGIN:DAYLIGHT
TZOFFSETFROM:+0100
TZOFFSETTO:+0200
TZNAME:CEST
DTSTART:20250330T010000
END:DAYLIGHT
BEGIN:STANDARD
TZOFFSETFROM:+0200
TZOFFSETTO:+0100
TZNAME:CET
DTSTART:20251026T010000
END:STANDARD
BEGIN:DAYLIGHT
TZOFFSETFROM:+0100
TZOFFSETTO:+0200
TZNAME:CEST
DTSTART:20260329T010000
END:DAYLIGHT
BEGIN:STANDARD
TZOFFSETFROM:+0200
TZOFFSETTO:+0100
TZNAME:CET
DTSTART:20261025T010000
END:STANDARD
BEGIN:DAYLIGHT
TZOFFSETFROM:+0100
TZOFFSETTO:+0200
TZNAME:CEST
DTSTART:20270328T010000
END:DAYLIGHT
BEGIN:STANDARD
TZOFFSETFROM:+0200
TZOFFSETTO:+0100
TZNAME:CET
DTSTART:20271031T010000
END:STANDARD
END:VTIMEZONE
BEGIN:VEVENT
DTSTART;TZID=Europe/Paris:20260611T140000
DTEND;TZID=Europe/Paris:20260611T170000
DTSTAMP:20260424T105956
CREATED:20260205T152253Z
LAST-MODIFIED:20260306T120308Z
UID:10001102-1781186400-1781197200@demens.nu
SUMMARY:Spelnamiddag + Praatcafé
DESCRIPTION:We komen samen om bij te praten bij een tas koffie en een lekker koekje.\nDaarnaast is er een ruime keuze aan verschillende gezelschapsspellen. \nSchaken (mogelijkheid om het te leren)\, kaarten of andere\ngezelschapsspelen zoals Rummikub\, Catan\, Carcassonne\,…\n… of breng je favoriete gezelschapsspel mee! \nInkom gratis – iedereen welkom! \nMeer info: vilvoorde@deMens.nu
URL:https://demens.nu/evenement/spelnamiddag-praatcefe/2026-06-11/
LOCATION:VOC Vilvoorde\, Frans Geldersstraat 21\, Vilvoorde\, Vlaams-Brabant\, 1800\, Belgium
CATEGORIES:Ontmoeting
ATTACH;FMTTYPE=image/jpeg:https://demens.nu/wp-content/uploads/2026/02/rummikub2-scaled.jpg
ORGANIZER;CN="Vrijzinnig Vilvoorde":MAILTO:vilvoorde@demens.nu
END:VEVENT
END:VCALENDAR