BEGIN:VCALENDAR
VERSION:2.0
PRODID:-//demens.nu - ECPv6.15.17//NONSGML v1.0//EN
CALSCALE:GREGORIAN
METHOD:PUBLISH
X-WR-CALNAME:demens.nu
X-ORIGINAL-URL:https://demens.nu
X-WR-CALDESC:Evenementen voor demens.nu
REFRESH-INTERVAL;VALUE=DURATION:PT1H
X-Robots-Tag:noindex
X-PUBLISHED-TTL:PT1H
BEGIN:VTIMEZONE
TZID:Europe/Paris
BEGIN:DAYLIGHT
TZOFFSETFROM:+0100
TZOFFSETTO:+0200
TZNAME:CEST
DTSTART:20250330T010000
END:DAYLIGHT
BEGIN:STANDARD
TZOFFSETFROM:+0200
TZOFFSETTO:+0100
TZNAME:CET
DTSTART:20251026T010000
END:STANDARD
BEGIN:DAYLIGHT
TZOFFSETFROM:+0100
TZOFFSETTO:+0200
TZNAME:CEST
DTSTART:20260329T010000
END:DAYLIGHT
BEGIN:STANDARD
TZOFFSETFROM:+0200
TZOFFSETTO:+0100
TZNAME:CET
DTSTART:20261025T010000
END:STANDARD
BEGIN:DAYLIGHT
TZOFFSETFROM:+0100
TZOFFSETTO:+0200
TZNAME:CEST
DTSTART:20270328T010000
END:DAYLIGHT
BEGIN:STANDARD
TZOFFSETFROM:+0200
TZOFFSETTO:+0100
TZNAME:CET
DTSTART:20271031T010000
END:STANDARD
END:VTIMEZONE
BEGIN:VEVENT
DTSTART;TZID=Europe/Paris:20260521T133000
DTEND;TZID=Europe/Paris:20260521T153000
DTSTAMP:20260419T234450
CREATED:20260416T125739Z
LAST-MODIFIED:20260416T125739Z
UID:10001622-1779370200-1779377400@demens.nu
SUMMARY:Filosofienamiddag Levenskunst
DESCRIPTION:Een gezellige activiteit waarbij een actueel thema of filosofische vraag centraal staat. Zonder concrete antwoorden maar ontzettend veel boeiende vragen… Filosofische voorkennis is niet vereist!
URL:https://demens.nu/evenement/filosofienamiddag-levenskunst/2026-05-21/
LOCATION:huisvandeMens Lommel\, Hertog Janplein 1\, Lommel\, 3920\, België
CATEGORIES:Andere,Ontmoeting
ATTACH;FMTTYPE=image/jpeg:https://demens.nu/wp-content/uploads/2026/04/levenskunst.jpg
ORGANIZER;CN="huisvandeMens Lommel":MAILTO:lommel@deMens.nu
END:VEVENT
BEGIN:VEVENT
DTSTART;TZID=Europe/Paris:20260618T133000
DTEND;TZID=Europe/Paris:20260618T153000
DTSTAMP:20260419T234450
CREATED:20260416T125739Z
LAST-MODIFIED:20260416T125739Z
UID:10001623-1781789400-1781796600@demens.nu
SUMMARY:Filosofienamiddag Levenskunst
DESCRIPTION:Een gezellige activiteit waarbij een actueel thema of filosofische vraag centraal staat. Zonder concrete antwoorden maar ontzettend veel boeiende vragen… Filosofische voorkennis is niet vereist!
URL:https://demens.nu/evenement/filosofienamiddag-levenskunst/2026-06-18/
LOCATION:huisvandeMens Lommel\, Hertog Janplein 1\, Lommel\, 3920\, België
CATEGORIES:Andere,Ontmoeting
ATTACH;FMTTYPE=image/jpeg:https://demens.nu/wp-content/uploads/2026/04/levenskunst.jpg
ORGANIZER;CN="huisvandeMens Lommel":MAILTO:lommel@deMens.nu
END:VEVENT
END:VCALENDAR