BEGIN:VCALENDAR
VERSION:2.0
PRODID:-//demens.nu - ECPv6.15.20//NONSGML v1.0//EN
CALSCALE:GREGORIAN
METHOD:PUBLISH
X-WR-CALNAME:demens.nu
X-ORIGINAL-URL:https://demens.nu
X-WR-CALDESC:Evenementen voor demens.nu
REFRESH-INTERVAL;VALUE=DURATION:PT1H
X-Robots-Tag:noindex
X-PUBLISHED-TTL:PT1H
BEGIN:VTIMEZONE
TZID:Europe/Paris
BEGIN:DAYLIGHT
TZOFFSETFROM:+0100
TZOFFSETTO:+0200
TZNAME:CEST
DTSTART:20250330T010000
END:DAYLIGHT
BEGIN:STANDARD
TZOFFSETFROM:+0200
TZOFFSETTO:+0100
TZNAME:CET
DTSTART:20251026T010000
END:STANDARD
BEGIN:DAYLIGHT
TZOFFSETFROM:+0100
TZOFFSETTO:+0200
TZNAME:CEST
DTSTART:20260329T010000
END:DAYLIGHT
BEGIN:STANDARD
TZOFFSETFROM:+0200
TZOFFSETTO:+0100
TZNAME:CET
DTSTART:20261025T010000
END:STANDARD
BEGIN:DAYLIGHT
TZOFFSETFROM:+0100
TZOFFSETTO:+0200
TZNAME:CEST
DTSTART:20270328T010000
END:DAYLIGHT
BEGIN:STANDARD
TZOFFSETFROM:+0200
TZOFFSETTO:+0100
TZNAME:CET
DTSTART:20271031T010000
END:STANDARD
END:VTIMEZONE
BEGIN:VEVENT
DTSTART;TZID=Europe/Paris:20260507T180000
DTEND;TZID=Europe/Paris:20260507T230000
DTSTAMP:20260423T173905
CREATED:20260423T122112Z
LAST-MODIFIED:20260423T122112Z
UID:10001632-1778176800-1778194800@demens.nu
SUMMARY:Expo Danny Vliegen: Bowie: A portrait in transformation
DESCRIPTION:Deze tentoonstelling brengt 30 portretten samen die de voortdurende en evoluerende androgyne identiteit van David Bowie verkennen. Elk portret vangt een moment in zijn metamorfose. Soms uitdagend\, soms kwetsbaar\, maar altijd in beweging. De potloodtekeningen van Danny Vliegen ontstaan vanuit het arceren\, repetitieve bewegingen die rust brengen\, en volledig in het portret laten opgaan. \nSchilderen vraagt om een andere concentratie\, een zoektocht naar de juiste kleur\, toonwaarde en expressie. \nHet voortdurend schakelen tussen tekenen en schilderen houdt Danny’s werk levendig en vormt de rode draad in zijn artistieke proces. \nTijdens kunstennacht staat een open mic in het teken van vrijheid en experiment\, van het zoeken naar identiteit\, voor stemmen die durven schuiven\, vervormen en schitteren. Dichter\, performer\, muzikant of dromer… breng je woorden\, je stem\, je twijfels\, je transformatie.
URL:https://demens.nu/evenement/expo-danny-vliegen-bowie-a-portrait-in-transformation/2026-05-07/
LOCATION:Vrijzinnig Punt Hasselt\, Albrecht Rodenbachstraat 18\, Hasselt\, lim\, 3500\, België
CATEGORIES:Tentoonstelling
ATTACH;FMTTYPE=image/jpeg:https://demens.nu/wp-content/uploads/2026/04/Danny-kunstennacht-bowie-26-A6_Pagina_1.jpg
ORGANIZER;CN="kunstpunt CAR%C3%89":MAILTO:activiteiten@vrijzinnigpunt.be
END:VEVENT
BEGIN:VEVENT
DTSTART;TZID=Europe/Paris:20260509T140000
DTEND;TZID=Europe/Paris:20260509T170000
DTSTAMP:20260423T173905
CREATED:20260423T122112Z
LAST-MODIFIED:20260423T122112Z
UID:10001633-1778335200-1778346000@demens.nu
SUMMARY:Expo Danny Vliegen: Bowie: A portrait in transformation
DESCRIPTION:Deze tentoonstelling brengt 30 portretten samen die de voortdurende en evoluerende androgyne identiteit van David Bowie verkennen. Elk portret vangt een moment in zijn metamorfose. Soms uitdagend\, soms kwetsbaar\, maar altijd in beweging. De potloodtekeningen van Danny Vliegen ontstaan vanuit het arceren\, repetitieve bewegingen die rust brengen\, en volledig in het portret laten opgaan. \nSchilderen vraagt om een andere concentratie\, een zoektocht naar de juiste kleur\, toonwaarde en expressie. \nHet voortdurend schakelen tussen tekenen en schilderen houdt Danny’s werk levendig en vormt de rode draad in zijn artistieke proces. \nTijdens kunstennacht staat een open mic in het teken van vrijheid en experiment\, van het zoeken naar identiteit\, voor stemmen die durven schuiven\, vervormen en schitteren. Dichter\, performer\, muzikant of dromer… breng je woorden\, je stem\, je twijfels\, je transformatie.
URL:https://demens.nu/evenement/expo-danny-vliegen-bowie-a-portrait-in-transformation/2026-05-09/
LOCATION:Vrijzinnig Punt Hasselt\, Albrecht Rodenbachstraat 18\, Hasselt\, lim\, 3500\, België
CATEGORIES:Tentoonstelling
ATTACH;FMTTYPE=image/jpeg:https://demens.nu/wp-content/uploads/2026/04/Danny-kunstennacht-bowie-26-A6_Pagina_1.jpg
ORGANIZER;CN="kunstpunt CAR%C3%89":MAILTO:activiteiten@vrijzinnigpunt.be
END:VEVENT
BEGIN:VEVENT
DTSTART;TZID=Europe/Paris:20260510T150000
DTEND;TZID=Europe/Paris:20260510T170000
DTSTAMP:20260423T173905
CREATED:20260423T122112Z
LAST-MODIFIED:20260423T122112Z
UID:10001634-1778425200-1778432400@demens.nu
SUMMARY:Expo Danny Vliegen: Bowie: A portrait in transformation
DESCRIPTION:Deze tentoonstelling brengt 30 portretten samen die de voortdurende en evoluerende androgyne identiteit van David Bowie verkennen. Elk portret vangt een moment in zijn metamorfose. Soms uitdagend\, soms kwetsbaar\, maar altijd in beweging. De potloodtekeningen van Danny Vliegen ontstaan vanuit het arceren\, repetitieve bewegingen die rust brengen\, en volledig in het portret laten opgaan. \nSchilderen vraagt om een andere concentratie\, een zoektocht naar de juiste kleur\, toonwaarde en expressie. \nHet voortdurend schakelen tussen tekenen en schilderen houdt Danny’s werk levendig en vormt de rode draad in zijn artistieke proces. \nTijdens kunstennacht staat een open mic in het teken van vrijheid en experiment\, van het zoeken naar identiteit\, voor stemmen die durven schuiven\, vervormen en schitteren. Dichter\, performer\, muzikant of dromer… breng je woorden\, je stem\, je twijfels\, je transformatie.
URL:https://demens.nu/evenement/expo-danny-vliegen-bowie-a-portrait-in-transformation/2026-05-10/
LOCATION:Vrijzinnig Punt Hasselt\, Albrecht Rodenbachstraat 18\, Hasselt\, lim\, 3500\, België
CATEGORIES:Tentoonstelling
ATTACH;FMTTYPE=image/jpeg:https://demens.nu/wp-content/uploads/2026/04/Danny-kunstennacht-bowie-26-A6_Pagina_1.jpg
ORGANIZER;CN="kunstpunt CAR%C3%89":MAILTO:activiteiten@vrijzinnigpunt.be
END:VEVENT
BEGIN:VEVENT
DTSTART;TZID=Europe/Paris:20260513T133000
DTEND;TZID=Europe/Paris:20260513T163000
DTSTAMP:20260423T173905
CREATED:20260423T122112Z
LAST-MODIFIED:20260423T122112Z
UID:10001635-1778679000-1778689800@demens.nu
SUMMARY:Expo Danny Vliegen: Bowie: A portrait in transformation
DESCRIPTION:Deze tentoonstelling brengt 30 portretten samen die de voortdurende en evoluerende androgyne identiteit van David Bowie verkennen. Elk portret vangt een moment in zijn metamorfose. Soms uitdagend\, soms kwetsbaar\, maar altijd in beweging. De potloodtekeningen van Danny Vliegen ontstaan vanuit het arceren\, repetitieve bewegingen die rust brengen\, en volledig in het portret laten opgaan. \nSchilderen vraagt om een andere concentratie\, een zoektocht naar de juiste kleur\, toonwaarde en expressie. \nHet voortdurend schakelen tussen tekenen en schilderen houdt Danny’s werk levendig en vormt de rode draad in zijn artistieke proces. \nTijdens kunstennacht staat een open mic in het teken van vrijheid en experiment\, van het zoeken naar identiteit\, voor stemmen die durven schuiven\, vervormen en schitteren. Dichter\, performer\, muzikant of dromer… breng je woorden\, je stem\, je twijfels\, je transformatie.
URL:https://demens.nu/evenement/expo-danny-vliegen-bowie-a-portrait-in-transformation/2026-05-13/
LOCATION:Vrijzinnig Punt Hasselt\, Albrecht Rodenbachstraat 18\, Hasselt\, lim\, 3500\, België
CATEGORIES:Tentoonstelling
ATTACH;FMTTYPE=image/jpeg:https://demens.nu/wp-content/uploads/2026/04/Danny-kunstennacht-bowie-26-A6_Pagina_1.jpg
ORGANIZER;CN="kunstpunt CAR%C3%89":MAILTO:activiteiten@vrijzinnigpunt.be
END:VEVENT
BEGIN:VEVENT
DTSTART;TZID=Europe/Paris:20260516T140000
DTEND;TZID=Europe/Paris:20260516T170000
DTSTAMP:20260423T173905
CREATED:20260423T122112Z
LAST-MODIFIED:20260423T122112Z
UID:10001636-1778940000-1778950800@demens.nu
SUMMARY:Expo Danny Vliegen: Bowie: A portrait in transformation
DESCRIPTION:Deze tentoonstelling brengt 30 portretten samen die de voortdurende en evoluerende androgyne identiteit van David Bowie verkennen. Elk portret vangt een moment in zijn metamorfose. Soms uitdagend\, soms kwetsbaar\, maar altijd in beweging. De potloodtekeningen van Danny Vliegen ontstaan vanuit het arceren\, repetitieve bewegingen die rust brengen\, en volledig in het portret laten opgaan. \nSchilderen vraagt om een andere concentratie\, een zoektocht naar de juiste kleur\, toonwaarde en expressie. \nHet voortdurend schakelen tussen tekenen en schilderen houdt Danny’s werk levendig en vormt de rode draad in zijn artistieke proces. \nTijdens kunstennacht staat een open mic in het teken van vrijheid en experiment\, van het zoeken naar identiteit\, voor stemmen die durven schuiven\, vervormen en schitteren. Dichter\, performer\, muzikant of dromer… breng je woorden\, je stem\, je twijfels\, je transformatie.
URL:https://demens.nu/evenement/expo-danny-vliegen-bowie-a-portrait-in-transformation/2026-05-16/
LOCATION:Vrijzinnig Punt Hasselt\, Albrecht Rodenbachstraat 18\, Hasselt\, lim\, 3500\, België
CATEGORIES:Tentoonstelling
ATTACH;FMTTYPE=image/jpeg:https://demens.nu/wp-content/uploads/2026/04/Danny-kunstennacht-bowie-26-A6_Pagina_1.jpg
ORGANIZER;CN="kunstpunt CAR%C3%89":MAILTO:activiteiten@vrijzinnigpunt.be
END:VEVENT
BEGIN:VEVENT
DTSTART;TZID=Europe/Paris:20260517T150000
DTEND;TZID=Europe/Paris:20260517T170000
DTSTAMP:20260423T173905
CREATED:20260423T122112Z
LAST-MODIFIED:20260423T122112Z
UID:10001637-1779030000-1779037200@demens.nu
SUMMARY:Expo Danny Vliegen: Bowie: A portrait in transformation
DESCRIPTION:Deze tentoonstelling brengt 30 portretten samen die de voortdurende en evoluerende androgyne identiteit van David Bowie verkennen. Elk portret vangt een moment in zijn metamorfose. Soms uitdagend\, soms kwetsbaar\, maar altijd in beweging. De potloodtekeningen van Danny Vliegen ontstaan vanuit het arceren\, repetitieve bewegingen die rust brengen\, en volledig in het portret laten opgaan. \nSchilderen vraagt om een andere concentratie\, een zoektocht naar de juiste kleur\, toonwaarde en expressie. \nHet voortdurend schakelen tussen tekenen en schilderen houdt Danny’s werk levendig en vormt de rode draad in zijn artistieke proces. \nTijdens kunstennacht staat een open mic in het teken van vrijheid en experiment\, van het zoeken naar identiteit\, voor stemmen die durven schuiven\, vervormen en schitteren. Dichter\, performer\, muzikant of dromer… breng je woorden\, je stem\, je twijfels\, je transformatie.
URL:https://demens.nu/evenement/expo-danny-vliegen-bowie-a-portrait-in-transformation/2026-05-17/
LOCATION:Vrijzinnig Punt Hasselt\, Albrecht Rodenbachstraat 18\, Hasselt\, lim\, 3500\, België
CATEGORIES:Tentoonstelling
ATTACH;FMTTYPE=image/jpeg:https://demens.nu/wp-content/uploads/2026/04/Danny-kunstennacht-bowie-26-A6_Pagina_1.jpg
ORGANIZER;CN="kunstpunt CAR%C3%89":MAILTO:activiteiten@vrijzinnigpunt.be
END:VEVENT
BEGIN:VEVENT
DTSTART;TZID=Europe/Paris:20260520T133000
DTEND;TZID=Europe/Paris:20260520T163000
DTSTAMP:20260423T173905
CREATED:20260423T122112Z
LAST-MODIFIED:20260423T122112Z
UID:10001638-1779283800-1779294600@demens.nu
SUMMARY:Expo Danny Vliegen: Bowie: A portrait in transformation
DESCRIPTION:Deze tentoonstelling brengt 30 portretten samen die de voortdurende en evoluerende androgyne identiteit van David Bowie verkennen. Elk portret vangt een moment in zijn metamorfose. Soms uitdagend\, soms kwetsbaar\, maar altijd in beweging. De potloodtekeningen van Danny Vliegen ontstaan vanuit het arceren\, repetitieve bewegingen die rust brengen\, en volledig in het portret laten opgaan. \nSchilderen vraagt om een andere concentratie\, een zoektocht naar de juiste kleur\, toonwaarde en expressie. \nHet voortdurend schakelen tussen tekenen en schilderen houdt Danny’s werk levendig en vormt de rode draad in zijn artistieke proces. \nTijdens kunstennacht staat een open mic in het teken van vrijheid en experiment\, van het zoeken naar identiteit\, voor stemmen die durven schuiven\, vervormen en schitteren. Dichter\, performer\, muzikant of dromer… breng je woorden\, je stem\, je twijfels\, je transformatie.
URL:https://demens.nu/evenement/expo-danny-vliegen-bowie-a-portrait-in-transformation/2026-05-20/
LOCATION:Vrijzinnig Punt Hasselt\, Albrecht Rodenbachstraat 18\, Hasselt\, lim\, 3500\, België
CATEGORIES:Tentoonstelling
ATTACH;FMTTYPE=image/jpeg:https://demens.nu/wp-content/uploads/2026/04/Danny-kunstennacht-bowie-26-A6_Pagina_1.jpg
ORGANIZER;CN="kunstpunt CAR%C3%89":MAILTO:activiteiten@vrijzinnigpunt.be
END:VEVENT
BEGIN:VEVENT
DTSTART;TZID=Europe/Paris:20260523T140000
DTEND;TZID=Europe/Paris:20260523T170000
DTSTAMP:20260423T173905
CREATED:20260423T122112Z
LAST-MODIFIED:20260423T122112Z
UID:10001639-1779544800-1779555600@demens.nu
SUMMARY:Expo Danny Vliegen: Bowie: A portrait in transformation
DESCRIPTION:Deze tentoonstelling brengt 30 portretten samen die de voortdurende en evoluerende androgyne identiteit van David Bowie verkennen. Elk portret vangt een moment in zijn metamorfose. Soms uitdagend\, soms kwetsbaar\, maar altijd in beweging. De potloodtekeningen van Danny Vliegen ontstaan vanuit het arceren\, repetitieve bewegingen die rust brengen\, en volledig in het portret laten opgaan. \nSchilderen vraagt om een andere concentratie\, een zoektocht naar de juiste kleur\, toonwaarde en expressie. \nHet voortdurend schakelen tussen tekenen en schilderen houdt Danny’s werk levendig en vormt de rode draad in zijn artistieke proces. \nTijdens kunstennacht staat een open mic in het teken van vrijheid en experiment\, van het zoeken naar identiteit\, voor stemmen die durven schuiven\, vervormen en schitteren. Dichter\, performer\, muzikant of dromer… breng je woorden\, je stem\, je twijfels\, je transformatie.
URL:https://demens.nu/evenement/expo-danny-vliegen-bowie-a-portrait-in-transformation/2026-05-23/
LOCATION:Vrijzinnig Punt Hasselt\, Albrecht Rodenbachstraat 18\, Hasselt\, lim\, 3500\, België
CATEGORIES:Tentoonstelling
ATTACH;FMTTYPE=image/jpeg:https://demens.nu/wp-content/uploads/2026/04/Danny-kunstennacht-bowie-26-A6_Pagina_1.jpg
ORGANIZER;CN="kunstpunt CAR%C3%89":MAILTO:activiteiten@vrijzinnigpunt.be
END:VEVENT
BEGIN:VEVENT
DTSTART;TZID=Europe/Paris:20260524T150000
DTEND;TZID=Europe/Paris:20260524T170000
DTSTAMP:20260423T173905
CREATED:20260423T122112Z
LAST-MODIFIED:20260423T122112Z
UID:10001640-1779634800-1779642000@demens.nu
SUMMARY:Expo Danny Vliegen: Bowie: A portrait in transformation
DESCRIPTION:Deze tentoonstelling brengt 30 portretten samen die de voortdurende en evoluerende androgyne identiteit van David Bowie verkennen. Elk portret vangt een moment in zijn metamorfose. Soms uitdagend\, soms kwetsbaar\, maar altijd in beweging. De potloodtekeningen van Danny Vliegen ontstaan vanuit het arceren\, repetitieve bewegingen die rust brengen\, en volledig in het portret laten opgaan. \nSchilderen vraagt om een andere concentratie\, een zoektocht naar de juiste kleur\, toonwaarde en expressie. \nHet voortdurend schakelen tussen tekenen en schilderen houdt Danny’s werk levendig en vormt de rode draad in zijn artistieke proces. \nTijdens kunstennacht staat een open mic in het teken van vrijheid en experiment\, van het zoeken naar identiteit\, voor stemmen die durven schuiven\, vervormen en schitteren. Dichter\, performer\, muzikant of dromer… breng je woorden\, je stem\, je twijfels\, je transformatie.
URL:https://demens.nu/evenement/expo-danny-vliegen-bowie-a-portrait-in-transformation/2026-05-24/
LOCATION:Vrijzinnig Punt Hasselt\, Albrecht Rodenbachstraat 18\, Hasselt\, lim\, 3500\, België
CATEGORIES:Tentoonstelling
ATTACH;FMTTYPE=image/jpeg:https://demens.nu/wp-content/uploads/2026/04/Danny-kunstennacht-bowie-26-A6_Pagina_1.jpg
ORGANIZER;CN="kunstpunt CAR%C3%89":MAILTO:activiteiten@vrijzinnigpunt.be
END:VEVENT
END:VCALENDAR