BEGIN:VCALENDAR
VERSION:2.0
PRODID:-//demens.nu - ECPv6.15.20//NONSGML v1.0//EN
CALSCALE:GREGORIAN
METHOD:PUBLISH
X-ORIGINAL-URL:https://demens.nu
X-WR-CALDESC:Evenementen voor demens.nu
REFRESH-INTERVAL;VALUE=DURATION:PT1H
X-Robots-Tag:noindex
X-PUBLISHED-TTL:PT1H
BEGIN:VTIMEZONE
TZID:Europe/Paris
BEGIN:DAYLIGHT
TZOFFSETFROM:+0100
TZOFFSETTO:+0200
TZNAME:CEST
DTSTART:20250330T010000
END:DAYLIGHT
BEGIN:STANDARD
TZOFFSETFROM:+0200
TZOFFSETTO:+0100
TZNAME:CET
DTSTART:20251026T010000
END:STANDARD
BEGIN:DAYLIGHT
TZOFFSETFROM:+0100
TZOFFSETTO:+0200
TZNAME:CEST
DTSTART:20260329T010000
END:DAYLIGHT
BEGIN:STANDARD
TZOFFSETFROM:+0200
TZOFFSETTO:+0100
TZNAME:CET
DTSTART:20261025T010000
END:STANDARD
BEGIN:DAYLIGHT
TZOFFSETFROM:+0100
TZOFFSETTO:+0200
TZNAME:CEST
DTSTART:20270328T010000
END:DAYLIGHT
BEGIN:STANDARD
TZOFFSETFROM:+0200
TZOFFSETTO:+0100
TZNAME:CET
DTSTART:20271031T010000
END:STANDARD
END:VTIMEZONE
BEGIN:VEVENT
DTSTART;TZID=Europe/Paris:20260202T193000
DTEND;TZID=Europe/Paris:20260202T210000
DTSTAMP:20260423T132401
CREATED:20260109T102523Z
LAST-MODIFIED:20260202T110317Z
UID:10000436-1770060600-1770066000@demens.nu
SUMMARY:Rouwgroep
DESCRIPTION:Rouwgroep  \nHet verlies van een dierbare heeft een grote impact op je leven en je bestaan. Ben jij ook iemand dierbaar verloren? Heb je het gevoel dat je omgeving je niet altijd begrijpt\, of heb je gewoon nood aan contact met mensen die iets gelijkaardig meemaken? \nHet Huis van de Mens Sint-Niklaas start een begeleide lotgenotenrouwgroep op voor mensen tussen 18 en 40 jaar\, op 2/02\, 2/03 en 13/04\, telkens vanaf 19u30.\nHeb jij interesse om deel te nemen? Neem dan (geheel vrijblijvend) contact met ons op via sintniklaas@demens.nu. \n\nFilter opAlles huizenvandeMens Lidverenigingen Ontmoetingscentra\n\n	\n		\n			\n			Close\n		\n	\n\n	Routebeschrijving\n	\n	\n		\n			\n				\n					\n				\n				\n					\n				\n				\n					\n				\n				\n					\n				\n			\n\n			\n				\n					';\n						';\n					\n\n					Van\n					\n				\n\n				\n					\n						\n						\n					\n\n					Naar\n					\n				\n				\n				\n					\n					\n						\n							\n							\n						\n					\n										\n					\n				\n				\n				\n					\n						Voeg veellijn toe					\n				\n			\n\n			\n			\n				Voor			\n			\n				\n					Auto				\n				\n					Lopen				\n				\n					OV-laag				\n				\n					Fietsen				\n			\n			\n		\n	\n\n	\n\n		\n			\n				opties weergeven			\n			\n			\n				Verberg de opties			\n			\n			\n				\n					\n					Vermijd tolwegen				\n				\n					\n					Vermijd snelwegen				\n				\n					\n					Avoid Ferries				\n			\n		\n		\n		\n			\n		\n	\n\n	\n		\n			Print		\n		\n		\n			Reset		\n	\n\n	Ophalen van de route...\n	\n\n	\n\n	\n		\n			\n			Close\n		\n\n		\n\n			\n				\n					\n				\n				\n					\n				\n				\n				\n				\n				\n				\n					\n						\n					\n					\n						\n					\n				\n\n				Find Nearby\n			\n\n			\n				\n				\n				\n				\n				\n\n				Opslaan locatie markering\n			\n\n\n\n\n			\n				\n				\n				\n\n				Routebeschrijving\n			\n		\n\n	\n	\n	\n		\n	\n			\n	\n	\n	\n		\n			\n			\n		\n		\n	\n	\n	\n\n	\n\n	\n\n	\n\nLegendshuizenvandeMensLidverenigingenOntmoetingscentra
URL:https://demens.nu/evenement/rouwgroep/
LOCATION:huisvandeMens Sint-Niklaas\, Stationsplein 22\, Sint-Niklaas\, ovl\, 9100\, België
CATEGORIES:Rouw
ATTACH;FMTTYPE=image/jpeg:https://demens.nu/wp-content/uploads/2026/01/rouwgroep.jpg
ORGANIZER;CN="huisvandeMens Sint-Niklaas":MAILTO:sintniklaas@demens.nu
END:VEVENT
BEGIN:VEVENT
DTSTART;TZID=Europe/Paris:20260127T140000
DTEND;TZID=Europe/Paris:20260127T160000
DTSTAMP:20260423T132401
CREATED:20260109T102722Z
LAST-MODIFIED:20260112T115722Z
UID:10000437-1769522400-1769529600@demens.nu
SUMMARY:Zelfzorg
DESCRIPTION:Eindelijk meer zorgen voor jezelf? \n\n\nBeter jezelf en je behoeftes kennen? \n\n\nHoe grenzen stellen? \n\n\nAl deze items komen aan bod in de reeks met als centraal thema zelfzorg. \n\n\nKortom: je krijgt even tijd voor jezelf \n\n\nen een rugzak met tips \n\n\nom van zelfzorg een gewoonte te maken. \n\n\nIedereen is welkom. Geen voorkennis vereist. \nAdres: Stationsplein 22\, 9100 Sint-Niklaas \n\n\n\n\nFilter opAlles huizenvandeMens Lidverenigingen Ontmoetingscentra\n\n	\n		\n			\n			Close\n		\n	\n\n	Routebeschrijving\n	\n	\n		\n			\n				\n					\n				\n				\n					\n				\n				\n					\n				\n				\n					\n				\n			\n\n			\n				\n					';\n						';\n					\n\n					Van\n					\n				\n\n				\n					\n						\n						\n					\n\n					Naar\n					\n				\n				\n				\n					\n					\n						\n							\n							\n						\n					\n										\n					\n				\n				\n				\n					\n						Voeg veellijn toe					\n				\n			\n\n			\n			\n				Voor			\n			\n				\n					Auto				\n				\n					Lopen				\n				\n					OV-laag				\n				\n					Fietsen				\n			\n			\n		\n	\n\n	\n\n		\n			\n				opties weergeven			\n			\n			\n				Verberg de opties			\n			\n			\n				\n					\n					Vermijd tolwegen				\n				\n					\n					Vermijd snelwegen				\n				\n					\n					Avoid Ferries				\n			\n		\n		\n		\n			\n		\n	\n\n	\n		\n			Print		\n		\n		\n			Reset		\n	\n\n	Ophalen van de route...\n	\n\n	\n\n	\n		\n			\n			Close\n		\n\n		\n\n			\n				\n					\n				\n				\n					\n				\n				\n				\n				\n				\n				\n					\n						\n					\n					\n						\n					\n				\n\n				Find Nearby\n			\n\n			\n				\n				\n				\n				\n				\n\n				Opslaan locatie markering\n			\n\n\n\n\n			\n				\n				\n				\n\n				Routebeschrijving\n			\n		\n\n	\n	\n	\n		\n	\n			\n	\n	\n	\n		\n			\n			\n		\n		\n	\n	\n	\n\n	\n\n	\n\n	\n\nLegendshuizenvandeMensLidverenigingenOntmoetingscentra
URL:https://demens.nu/evenement/zelfzorg-2/
LOCATION:huisvandeMens Sint-Niklaas\, Stationsplein 22\, Sint-Niklaas\, ovl\, 9100\, België
CATEGORIES:Workshop
ATTACH;FMTTYPE=image/png:https://demens.nu/wp-content/uploads/2026/01/zelfzorg-voorkant.png
ORGANIZER;CN="huisvandeMens Sint-Niklaas":MAILTO:sintniklaas@demens.nu
END:VEVENT
BEGIN:VEVENT
DTSTART;TZID=Europe/Paris:20260120T140000
DTEND;TZID=Europe/Paris:20260120T160000
DTSTAMP:20260423T132401
CREATED:20260109T102329Z
LAST-MODIFIED:20260112T115623Z
UID:10000435-1768917600-1768924800@demens.nu
SUMMARY:Zelfzorg
DESCRIPTION:Eindelijk meer zorgen voor jezelf? \nBeter jezelf en je behoeftes kennen? \nHoe grenzen stellen? \nAl deze items komen aan bod in de reeks met als centraal thema zelfzorg. \nKortom: je krijgt even tijd voor jezelf \nen een rugzak met tips \nom van zelfzorg een gewoonte te maken. \nIedereen is welkom. Geen voorkennis vereist. \nAdres: Stationsplein 22\, 9100 Sint-Niklaas \n\nFilter opAlles huizenvandeMens Lidverenigingen Ontmoetingscentra\n\n	\n		\n			\n			Close\n		\n	\n\n	Routebeschrijving\n	\n	\n		\n			\n				\n					\n				\n				\n					\n				\n				\n					\n				\n				\n					\n				\n			\n\n			\n				\n					';\n						';\n					\n\n					Van\n					\n				\n\n				\n					\n						\n						\n					\n\n					Naar\n					\n				\n				\n				\n					\n					\n						\n							\n							\n						\n					\n										\n					\n				\n				\n				\n					\n						Voeg veellijn toe					\n				\n			\n\n			\n			\n				Voor			\n			\n				\n					Auto				\n				\n					Lopen				\n				\n					OV-laag				\n				\n					Fietsen				\n			\n			\n		\n	\n\n	\n\n		\n			\n				opties weergeven			\n			\n			\n				Verberg de opties			\n			\n			\n				\n					\n					Vermijd tolwegen				\n				\n					\n					Vermijd snelwegen				\n				\n					\n					Avoid Ferries				\n			\n		\n		\n		\n			\n		\n	\n\n	\n		\n			Print		\n		\n		\n			Reset		\n	\n\n	Ophalen van de route...\n	\n\n	\n\n	\n		\n			\n			Close\n		\n\n		\n\n			\n				\n					\n				\n				\n					\n				\n				\n				\n				\n				\n				\n					\n						\n					\n					\n						\n					\n				\n\n				Find Nearby\n			\n\n			\n				\n				\n				\n				\n				\n\n				Opslaan locatie markering\n			\n\n\n\n\n			\n				\n				\n				\n\n				Routebeschrijving\n			\n		\n\n	\n	\n	\n		\n	\n			\n	\n	\n	\n		\n			\n			\n		\n		\n	\n	\n	\n\n	\n\n	\n\n	\n\nLegendshuizenvandeMensLidverenigingenOntmoetingscentra
URL:https://demens.nu/evenement/zelfzorg/
LOCATION:huisvandeMens Sint-Niklaas\, Stationsplein 22\, Sint-Niklaas\, ovl\, 9100\, België
CATEGORIES:Workshop
ATTACH;FMTTYPE=image/png:https://demens.nu/wp-content/uploads/2026/01/zelfzorg-voorkant.png
ORGANIZER;CN="huisvandeMens Sint-Niklaas":MAILTO:sintniklaas@demens.nu
END:VEVENT
END:VCALENDAR