BEGIN:VCALENDAR
VERSION:2.0
PRODID:-//demens.nu - ECPv6.15.20//NONSGML v1.0//EN
CALSCALE:GREGORIAN
METHOD:PUBLISH
X-WR-CALNAME:demens.nu
X-ORIGINAL-URL:https://demens.nu
X-WR-CALDESC:Evenementen voor demens.nu
REFRESH-INTERVAL;VALUE=DURATION:PT1H
X-Robots-Tag:noindex
X-PUBLISHED-TTL:PT1H
BEGIN:VTIMEZONE
TZID:Europe/Paris
BEGIN:DAYLIGHT
TZOFFSETFROM:+0100
TZOFFSETTO:+0200
TZNAME:CEST
DTSTART:20250330T010000
END:DAYLIGHT
BEGIN:STANDARD
TZOFFSETFROM:+0200
TZOFFSETTO:+0100
TZNAME:CET
DTSTART:20251026T010000
END:STANDARD
BEGIN:DAYLIGHT
TZOFFSETFROM:+0100
TZOFFSETTO:+0200
TZNAME:CEST
DTSTART:20260329T010000
END:DAYLIGHT
BEGIN:STANDARD
TZOFFSETFROM:+0200
TZOFFSETTO:+0100
TZNAME:CET
DTSTART:20261025T010000
END:STANDARD
BEGIN:DAYLIGHT
TZOFFSETFROM:+0100
TZOFFSETTO:+0200
TZNAME:CEST
DTSTART:20270328T010000
END:DAYLIGHT
BEGIN:STANDARD
TZOFFSETFROM:+0200
TZOFFSETTO:+0100
TZNAME:CET
DTSTART:20271031T010000
END:STANDARD
END:VTIMEZONE
BEGIN:VEVENT
DTSTART;TZID=Europe/Paris:20260227T150000
DTEND;TZID=Europe/Paris:20260227T170000
DTSTAMP:20260423T145052
CREATED:20260112T145725Z
LAST-MODIFIED:20260302T150246Z
UID:10000505-1772204400-1772211600@demens.nu
SUMMARY:Yarnbombing Café
DESCRIPTION:We komen elke vrijdag samen bij een tas koffie of thee om aan verschillende streetartprojecten te werken. Op dit moment werken we aan een installatie voor de Salangaanbrug. Beginner of geoefende haak(st)er? Iedereen kan mee helpen. Zin om mee te doen? Meld je aan via vilvoorde@demens.nu
URL:https://demens.nu/evenement/yarnbombing-cafe/2026-02-27/
LOCATION:huisvandeMens Vilvoorde\, Frans Geldersstraat 23\, Vilvoorde\, Vlaams-Brabant\, 1800\, Belgium
CATEGORIES:Ontmoeting,Workshop
ATTACH;FMTTYPE=image/jpeg:https://demens.nu/wp-content/uploads/2026/01/IMG_5377_knip.jpg
ORGANIZER;CN="huisvandeMens Vilvoorde":MAILTO:vilvoorde@demens.nu
END:VEVENT
BEGIN:VEVENT
DTSTART;TZID=Europe/Paris:20260220T150000
DTEND;TZID=Europe/Paris:20260220T170000
DTSTAMP:20260423T145052
CREATED:20260112T145725Z
LAST-MODIFIED:20260302T150246Z
UID:10000504-1771599600-1771606800@demens.nu
SUMMARY:Yarnbombing Café
DESCRIPTION:We komen elke vrijdag samen bij een tas koffie of thee om aan verschillende streetartprojecten te werken. Op dit moment werken we aan een installatie voor de Salangaanbrug. Beginner of geoefende haak(st)er? Iedereen kan mee helpen. Zin om mee te doen? Meld je aan via vilvoorde@demens.nu
URL:https://demens.nu/evenement/yarnbombing-cafe/2026-02-20/
LOCATION:huisvandeMens Vilvoorde\, Frans Geldersstraat 23\, Vilvoorde\, Vlaams-Brabant\, 1800\, Belgium
CATEGORIES:Ontmoeting,Workshop
ATTACH;FMTTYPE=image/jpeg:https://demens.nu/wp-content/uploads/2026/01/IMG_5377_knip.jpg
ORGANIZER;CN="huisvandeMens Vilvoorde":MAILTO:vilvoorde@demens.nu
END:VEVENT
BEGIN:VEVENT
DTSTART;TZID=Europe/Paris:20260213T150000
DTEND;TZID=Europe/Paris:20260213T170000
DTSTAMP:20260423T145052
CREATED:20260112T145725Z
LAST-MODIFIED:20260302T150246Z
UID:10000503-1770994800-1771002000@demens.nu
SUMMARY:Yarnbombing Café
DESCRIPTION:We komen elke vrijdag samen bij een tas koffie of thee om aan verschillende streetartprojecten te werken. Op dit moment werken we aan een installatie voor de Salangaanbrug. Beginner of geoefende haak(st)er? Iedereen kan mee helpen. Zin om mee te doen? Meld je aan via vilvoorde@demens.nu
URL:https://demens.nu/evenement/yarnbombing-cafe/2026-02-13/
LOCATION:huisvandeMens Vilvoorde\, Frans Geldersstraat 23\, Vilvoorde\, Vlaams-Brabant\, 1800\, Belgium
CATEGORIES:Ontmoeting,Workshop
ATTACH;FMTTYPE=image/jpeg:https://demens.nu/wp-content/uploads/2026/01/IMG_5377_knip.jpg
ORGANIZER;CN="huisvandeMens Vilvoorde":MAILTO:vilvoorde@demens.nu
END:VEVENT
BEGIN:VEVENT
DTSTART;TZID=Europe/Paris:20260206T150000
DTEND;TZID=Europe/Paris:20260206T170000
DTSTAMP:20260423T145052
CREATED:20260112T145725Z
LAST-MODIFIED:20260302T150246Z
UID:10000502-1770390000-1770397200@demens.nu
SUMMARY:Yarnbombing Café
DESCRIPTION:We komen elke vrijdag samen bij een tas koffie of thee om aan verschillende streetartprojecten te werken. Op dit moment werken we aan een installatie voor de Salangaanbrug. Beginner of geoefende haak(st)er? Iedereen kan mee helpen. Zin om mee te doen? Meld je aan via vilvoorde@demens.nu
URL:https://demens.nu/evenement/yarnbombing-cafe/2026-02-06/
LOCATION:huisvandeMens Vilvoorde\, Frans Geldersstraat 23\, Vilvoorde\, Vlaams-Brabant\, 1800\, Belgium
CATEGORIES:Ontmoeting,Workshop
ATTACH;FMTTYPE=image/jpeg:https://demens.nu/wp-content/uploads/2026/01/IMG_5377_knip.jpg
ORGANIZER;CN="huisvandeMens Vilvoorde":MAILTO:vilvoorde@demens.nu
END:VEVENT
BEGIN:VEVENT
DTSTART;TZID=Europe/Paris:20260130T150000
DTEND;TZID=Europe/Paris:20260130T170000
DTSTAMP:20260423T145052
CREATED:20260112T145725Z
LAST-MODIFIED:20260302T150246Z
UID:10000501-1769785200-1769792400@demens.nu
SUMMARY:Yarnbombing Café
DESCRIPTION:We komen elke vrijdag samen bij een tas koffie of thee om aan verschillende streetartprojecten te werken. Op dit moment werken we aan een installatie voor de Salangaanbrug. Beginner of geoefende haak(st)er? Iedereen kan mee helpen. Zin om mee te doen? Meld je aan via vilvoorde@demens.nu
URL:https://demens.nu/evenement/yarnbombing-cafe/2026-01-30/
LOCATION:huisvandeMens Vilvoorde\, Frans Geldersstraat 23\, Vilvoorde\, Vlaams-Brabant\, 1800\, Belgium
CATEGORIES:Ontmoeting,Workshop
ATTACH;FMTTYPE=image/jpeg:https://demens.nu/wp-content/uploads/2026/01/IMG_5377_knip.jpg
ORGANIZER;CN="huisvandeMens Vilvoorde":MAILTO:vilvoorde@demens.nu
END:VEVENT
BEGIN:VEVENT
DTSTART;TZID=Europe/Paris:20260127T140000
DTEND;TZID=Europe/Paris:20260127T160000
DTSTAMP:20260423T145052
CREATED:20251211T101054Z
LAST-MODIFIED:20251211T110123Z
UID:10000087-1769522400-1769529600@demens.nu
SUMMARY:Winterontmoetingen
DESCRIPTION:Na het succes van de zomereditie nodigen we je uit voor een warme winterreeks van zes open gesprekken\, waarin lichtheid en diepgang elkaar afwisselen.\nBij koffie of thee en met iets lekkers praten we over het leven — over wat ons raakt\, verwondert en verbindt.\nNoteer alvast de volgende data:\nZaterdag 15 november\, 13u – 15u: Over herdenken\nDinsdag 25 november\, 14u – 16u: Over muziek – het ritme van ons leven\nZaterdag 6 december\, 13u – 15u: Over licht en donker – Winterzonnewende\nDinsdag 6 januari\, 14u – 16u: Over De balans van geven en krijgen\nZaterdag 17 januari\, 13u – 15u: Over liefde voor huisdieren\nDinsdag 27 januari\, 14u – 16u: Over dementie\nOnthaal telkens 30 minuten vooraf.\n📍 Huiskamer van het huisvandeMens Vilvoorde (1e verdiep)\n☕ Gratis deelname\, inschrijven verplicht: 02 253 78 54\, vilvoorde@deMens.nu of via de site
URL:https://demens.nu/evenement/winterontmoetingen-5/
CATEGORIES:Ontmoeting
ATTACH;FMTTYPE=image/png:https://demens.nu/wp-content/uploads/2025/12/winteront-2-1GBGcN.png
ORGANIZER;CN="huisvandeMens Vilvoorde":MAILTO:vilvoorde@demens.nu
END:VEVENT
BEGIN:VEVENT
DTSTART;TZID=Europe/Paris:20260123T150000
DTEND;TZID=Europe/Paris:20260123T170000
DTSTAMP:20260423T145052
CREATED:20260112T145725Z
LAST-MODIFIED:20260302T150246Z
UID:10000500-1769180400-1769187600@demens.nu
SUMMARY:Yarnbombing Café
DESCRIPTION:We komen elke vrijdag samen bij een tas koffie of thee om aan verschillende streetartprojecten te werken. Op dit moment werken we aan een installatie voor de Salangaanbrug. Beginner of geoefende haak(st)er? Iedereen kan mee helpen. Zin om mee te doen? Meld je aan via vilvoorde@demens.nu
URL:https://demens.nu/evenement/yarnbombing-cafe/2026-01-23/
LOCATION:huisvandeMens Vilvoorde\, Frans Geldersstraat 23\, Vilvoorde\, Vlaams-Brabant\, 1800\, Belgium
CATEGORIES:Ontmoeting,Workshop
ATTACH;FMTTYPE=image/jpeg:https://demens.nu/wp-content/uploads/2026/01/IMG_5377_knip.jpg
ORGANIZER;CN="huisvandeMens Vilvoorde":MAILTO:vilvoorde@demens.nu
END:VEVENT
BEGIN:VEVENT
DTSTART;TZID=Europe/Paris:20260117T130000
DTEND;TZID=Europe/Paris:20260117T150000
DTSTAMP:20260423T145052
CREATED:20251211T101052Z
LAST-MODIFIED:20251211T105909Z
UID:10000085-1768654800-1768662000@demens.nu
SUMMARY:Winterontmoetingen
DESCRIPTION:Na het succes van de zomereditie nodigen we je uit voor een warme winterreeks van zes open gesprekken\, waarin lichtheid en diepgang elkaar afwisselen.\nBij koffie of thee en met iets lekkers praten we over het leven — over wat ons raakt\, verwondert en verbindt.\nNoteer alvast de volgende data:\nZaterdag 15 november\, 13u – 15u: Over herdenken\nDinsdag 25 november\, 14u – 16u: Over muziek – het ritme van ons leven\nZaterdag 6 december\, 13u – 15u: Over licht en donker – Winterzonnewende\nDinsdag 6 januari\, 14u – 16u: Over De balans van geven en krijgen\nZaterdag 17 januari\, 13u – 15u: Over liefde voor huisdieren\nDinsdag 27 januari\, 14u – 16u: Over dementie\nOnthaal telkens 30 minuten vooraf.\n📍 Huiskamer van het huisvandeMens Vilvoorde (1e verdiep)\n☕ Gratis deelname\, inschrijven verplicht: 02 253 78 54\, vilvoorde@deMens.nu of via de site
URL:https://demens.nu/evenement/winterontmoetingen-2/
CATEGORIES:Ontmoeting
ATTACH;FMTTYPE=image/png:https://demens.nu/wp-content/uploads/2025/12/winteront-2-1GBGcN.png
ORGANIZER;CN="huisvandeMens Vilvoorde":MAILTO:vilvoorde@demens.nu
END:VEVENT
BEGIN:VEVENT
DTSTART;TZID=Europe/Paris:20260116T150000
DTEND;TZID=Europe/Paris:20260116T170000
DTSTAMP:20260423T145052
CREATED:20260112T145725Z
LAST-MODIFIED:20260302T150246Z
UID:10000499-1768575600-1768582800@demens.nu
SUMMARY:Yarnbombing Café
DESCRIPTION:We komen elke vrijdag samen bij een tas koffie of thee om aan verschillende streetartprojecten te werken. Op dit moment werken we aan een installatie voor de Salangaanbrug. Beginner of geoefende haak(st)er? Iedereen kan mee helpen. Zin om mee te doen? Meld je aan via vilvoorde@demens.nu
URL:https://demens.nu/evenement/yarnbombing-cafe/2026-01-16/
LOCATION:huisvandeMens Vilvoorde\, Frans Geldersstraat 23\, Vilvoorde\, Vlaams-Brabant\, 1800\, Belgium
CATEGORIES:Ontmoeting,Workshop
ATTACH;FMTTYPE=image/jpeg:https://demens.nu/wp-content/uploads/2026/01/IMG_5377_knip.jpg
ORGANIZER;CN="huisvandeMens Vilvoorde":MAILTO:vilvoorde@demens.nu
END:VEVENT
BEGIN:VEVENT
DTSTART;TZID=Europe/Paris:20260106T140000
DTEND;TZID=Europe/Paris:20260106T160000
DTSTAMP:20260423T145052
CREATED:20251211T101042Z
LAST-MODIFIED:20251211T103630Z
UID:10000077-1767708000-1767715200@demens.nu
SUMMARY:Winterontmoetingen
DESCRIPTION:Na het succes van de zomereditie nodigen we je uit voor een warme winterreeks van zes open gesprekken\, waarin lichtheid en diepgang elkaar afwisselen.\nBij koffie of thee en met iets lekkers praten we over het leven — over wat ons raakt\, verwondert en verbindt.\nNoteer alvast de volgende data:\nZaterdag 15 november\, 13u – 15u: Over herdenken\nDinsdag 25 november\, 14u – 16u: Over muziek – het ritme van ons leven\nZaterdag 6 december\, 13u – 15u: Over licht en donker – Winterzonnewende\nDinsdag 6 januari\, 14u – 16u: Over De balans van geven en krijgen\nZaterdag 17 januari\, 13u – 15u: Over liefde voor huisdieren\nDinsdag 27 januari\, 14u – 16u: Over dementie\nOnthaal telkens 30 minuten vooraf.\n📍 Huiskamer van het huisvandeMens Vilvoorde (1e verdiep)\n☕ Gratis deelname\, inschrijven verplicht: 02 253 78 54\, vilvoorde@deMens.nu of via de site
URL:https://demens.nu/evenement/winterontmoetingen/
CATEGORIES:Ontmoeting
ATTACH;FMTTYPE=image/png:https://demens.nu/wp-content/uploads/2025/12/winteront-2-1GBGcN.png
ORGANIZER;CN="huisvandeMens Vilvoorde":MAILTO:vilvoorde@demens.nu
END:VEVENT
END:VCALENDAR