BEGIN:VCALENDAR
VERSION:2.0
PRODID:-//demens.nu - ECPv6.15.20//NONSGML v1.0//EN
CALSCALE:GREGORIAN
METHOD:PUBLISH
X-WR-CALNAME:demens.nu
X-ORIGINAL-URL:https://demens.nu
X-WR-CALDESC:Evenementen voor demens.nu
REFRESH-INTERVAL;VALUE=DURATION:PT1H
X-Robots-Tag:noindex
X-PUBLISHED-TTL:PT1H
BEGIN:VTIMEZONE
TZID:Europe/Paris
BEGIN:DAYLIGHT
TZOFFSETFROM:+0100
TZOFFSETTO:+0200
TZNAME:CEST
DTSTART:20250330T010000
END:DAYLIGHT
BEGIN:STANDARD
TZOFFSETFROM:+0200
TZOFFSETTO:+0100
TZNAME:CET
DTSTART:20251026T010000
END:STANDARD
BEGIN:DAYLIGHT
TZOFFSETFROM:+0100
TZOFFSETTO:+0200
TZNAME:CEST
DTSTART:20260329T010000
END:DAYLIGHT
BEGIN:STANDARD
TZOFFSETFROM:+0200
TZOFFSETTO:+0100
TZNAME:CET
DTSTART:20261025T010000
END:STANDARD
BEGIN:DAYLIGHT
TZOFFSETFROM:+0100
TZOFFSETTO:+0200
TZNAME:CEST
DTSTART:20270328T010000
END:DAYLIGHT
BEGIN:STANDARD
TZOFFSETFROM:+0200
TZOFFSETTO:+0100
TZNAME:CET
DTSTART:20271031T010000
END:STANDARD
END:VTIMEZONE
BEGIN:VEVENT
DTSTART;TZID=Europe/Paris:20260421T200000
DTEND;TZID=Europe/Paris:20260421T223000
DTSTAMP:20260423T145220
CREATED:20260321T133504Z
LAST-MODIFIED:20260415T150731Z
UID:10001546-1776801600-1776810600@demens.nu
SUMMARY:De duivel in ons\, lezing door Christophe Busch
DESCRIPTION:Via daderonderzoek in de Holocaust en het terrorisme leert de directeur van het Hannah Arendt Instituut\, Christophe Busch\, ons welke patroon en welke stappen van ieder van ons een extreme geweldenaar kan maken.
URL:https://demens.nu/evenement/de-duivel-in-ons-lezing-door-christophe-bush/
LOCATION:Bib Waregem\, Boekenplein 1\, Waregem\, West-Vlaanderen\, 8790\, Belgium
CATEGORIES:Lezing
ATTACH;FMTTYPE=image/jpeg:https://demens.nu/wp-content/uploads/2026/02/DSC08586-scaled.jpg
ORGANIZER;CN="Humanistisch Verbond Waregem":MAILTO:info@pointcare.be
END:VEVENT
BEGIN:VEVENT
DTSTART;TZID=Europe/Paris:20260317T200000
DTEND;TZID=Europe/Paris:20260317T223000
DTSTAMP:20260423T145220
CREATED:20260220T143413Z
LAST-MODIFIED:20260220T143413Z
UID:10001227-1773777600-1773786600@demens.nu
SUMMARY:lezing prof Koert Debeuf: Wat moet je weten over het Midden-Oosten om het te begrijpen?
DESCRIPTION:Op dinsdag 17 maart 2026 houdt prof Koert Debeuf een lezing over wat je moet weten over het Midden-Oosten om het te begrijpen.
URL:https://demens.nu/evenement/lezing-prof-koert-debeuf-wat-moet-je-weten-over-het-midden-oosten-om-het-te-begrijpen/
LOCATION:Bib Waregem\, Boekenplein 1\, Waregem\, West-Vlaanderen\, 8790\, Belgium
ATTACH;FMTTYPE=image/jpeg:https://demens.nu/wp-content/uploads/2026/02/FlyerAfficheKoertDebeuf20260317.jpg
ORGANIZER;CN="Humanistisch Verbond Waregem":MAILTO:info@pointcare.be
END:VEVENT
BEGIN:VEVENT
DTSTART;TZID=Europe/Paris:20260210T200000
DTEND;TZID=Europe/Paris:20260210T220000
DTSTAMP:20260423T145220
CREATED:20260128T141838Z
LAST-MODIFIED:20260129T110653Z
UID:10001008-1770753600-1770760800@demens.nu
SUMMARY:Els Snick: Zwart op wit\, Verschaeve in Oostrozebeke
DESCRIPTION:Els Snick vertelt over haar persoonlijke zoektocht naar de banden tussen haar familie en de familie Lootens\, eigenaas van feestzaal De Visscherie in Oostrozebeke en fans van Cyriel Verschaeve\, die er ook soms verbleef.
URL:https://demens.nu/evenement/els-snick-zwart-op-wit-verschaeve-in-oostrozebeke/
LOCATION:Bib Waregem\, Boekenplein 1\, Waregem\, West-Vlaanderen\, 8790\, Belgium
ATTACH;FMTTYPE=image/jpeg:https://demens.nu/wp-content/uploads/2026/01/FlyerAfficheElsSnick2060210.jpg
ORGANIZER;CN="Humanistisch Verbond Waregem":MAILTO:info@pointcare.be
END:VEVENT
END:VCALENDAR