BEGIN:VCALENDAR
VERSION:2.0
PRODID:-//demens.nu - ECPv6.15.20//NONSGML v1.0//EN
CALSCALE:GREGORIAN
METHOD:PUBLISH
X-WR-CALNAME:demens.nu
X-ORIGINAL-URL:https://demens.nu
X-WR-CALDESC:Evenementen voor demens.nu
REFRESH-INTERVAL;VALUE=DURATION:PT1H
X-Robots-Tag:noindex
X-PUBLISHED-TTL:PT1H
BEGIN:VTIMEZONE
TZID:Europe/Paris
BEGIN:DAYLIGHT
TZOFFSETFROM:+0100
TZOFFSETTO:+0200
TZNAME:CEST
DTSTART:20250330T010000
END:DAYLIGHT
BEGIN:STANDARD
TZOFFSETFROM:+0200
TZOFFSETTO:+0100
TZNAME:CET
DTSTART:20251026T010000
END:STANDARD
BEGIN:DAYLIGHT
TZOFFSETFROM:+0100
TZOFFSETTO:+0200
TZNAME:CEST
DTSTART:20260329T010000
END:DAYLIGHT
BEGIN:STANDARD
TZOFFSETFROM:+0200
TZOFFSETTO:+0100
TZNAME:CET
DTSTART:20261025T010000
END:STANDARD
BEGIN:DAYLIGHT
TZOFFSETFROM:+0100
TZOFFSETTO:+0200
TZNAME:CEST
DTSTART:20270328T010000
END:DAYLIGHT
BEGIN:STANDARD
TZOFFSETFROM:+0200
TZOFFSETTO:+0100
TZNAME:CET
DTSTART:20271031T010000
END:STANDARD
END:VTIMEZONE
BEGIN:VEVENT
DTSTART;TZID=Europe/Paris:20260402T193000
DTEND;TZID=Europe/Paris:20260402T210000
DTSTAMP:20260425T210522
CREATED:20260304T143703Z
LAST-MODIFIED:20260304T144142Z
UID:10001500-1775158200-1775163600@demens.nu
SUMMARY:We Need to Talk About: een nieuwe abortuswet?
DESCRIPTION:Leer bij en denk mee na over een betere regelgeving rond abortus\nTijdens deze avond gaan we in kleine groep in gesprek met elkaar over de toekomst van de abortuswet. \n→ Hoe ziet de wet er op dit moment uit?\n→ Wat kan beter?\n→ Wat zou een ideale wet zijn?\n→ Waar moeten we voor opletten? \nOnder begeleiding van journaliste Sara Vandekerckhove en drie experten ontwerpen we samen een nieuwe regelgeving. Met jouw input gaan we aan slag en zetten we opnieuw een belangrijke stap in het strijden voor een rechtvaardige abortuswetgeving. \nWerk mee aan een rechtvaardig abortusbeleid \nAbortuswetgeving anno 2026\nNa decennia van strijd kregen in 1990 vrouwen* het recht te beslissen over het al of niet afbreken van hun eigen zwangerschap. Een nieuwe wet voorzag de mogelijkheid om binnen een termijn van 12 weken te opteren voor abortus. \nHet was een grote stap vooruit\, maar niet alle vrouwen zijn er nu mee geholpen. Velen vallen nog uit de boot en gaan daarom naar het buitenland. Er gaan nu stemmen op om de abortustermijn uit te breiden en de bedenktijd af te schaffen. Een divers expertencomité met uiteenlopende expertises en levensbeschouwingen\, opgericht op vraag van de vorige regering\, schaarde zich hierachter. \nToch is het recente federaal regeerakkoord heel kort hierover: ‘De wetgeving zal worden aangepast\, maar er moet eerst een debat gevoerd worden.’ Voorlopig dus nog geen duidelijkheid over een nieuwe abortuswet. Komt ze er überhaupt wel? \nTijdens deze avond gaan drie experten in gesprek met elkaar en met jullie over de toekomst van de abortuswet. Wat kan beter? Wat zou een ideale wet zijn? Hoe zien ze de toekomst? Waar moeten we voor opletten? \n*personen die een zwangerschap afbreken worden geregistreerd als ‘vrouw’. Echter\, ook transmannen en andere personen die zich niet identificeren als vrouw kunnen zwanger worden. Daarnaast zijn niet alle medeverwekkers betrokken bij ongewenste zwangerschappen mannen. \nExperten\nDorian Accoe is ethicus aan de UGent en secretaris van het Bioethics Institute Ghent\, waar hij onderzoek doet over reproductieve geneeskunde en genetica. Hij schreef reeds over partners en abortus. \nCarine Vrancken is directeur van LUNA\, de organisatie achter de vier abortuscentra in Vlaanderen. Lees hier enkele van haar opinies rond abortus en verantwoord ouderschap en de uitbreiding van de abortuswet. \nKristien Roelens is gynaecoloog aan het UZ Gent\, waar ze ook medisch coördinator van het Zorgcentrum na Seksueel Geweld is\, en professor aan de UGent. Zij was voorzitter van het wetenschappelijk comité dat tijdens de vorige federale regering de abortuswet evalueerde. \nHet gesprek wordt begeleid door Sara Vandekerckhove\, journalist en chef onderzoek bij De Morgen. \nPraktisch\n▹ donderdag 2 april 2026\, 19 u30 tot 21 u. + achteraf mogelijkheid tot napraten aan de bar \n▹ Inschrijven: dit reflectiemoment gaat door in kleine groep\, maximum 30 deelnemers \n▹ Locatie: VC Geuzenhuis (Kantienberg 9\, Gent) \n▹ Inkom: jouw vrije bijdrage gaat integraal naar Compagnon \nDe Compagnons zijn vrijwilligers die zwangere personen uit België naar Nederland bijstaan en begeleiden\, waar dit na 12 weken nog mogelijk is. Vrijwilligers rijden elke week en doen wat ze kunnen om het recht op abortus in België meer toegankelijk te maken. Deze organisatie draait volledig op giften van mensen zoals jij. Als je hen wil steunen\, dan kan dat zeker via partner Antorcha Humanista. \n▹ Organisatie: De Maakbare Mens\, Geuzenhuis & huisvandeMens Gent
URL:https://demens.nu/evenement/we-need-to-talk-about-een-nieuwe-abortuswet/
LOCATION:VC Geuzenhuis\, Kantienberg 9\, Gent\, Oost-Vlaanderen\, 9000
CATEGORIES:Debat
ATTACH;FMTTYPE=image/jpeg:https://demens.nu/wp-content/uploads/2026/03/WNTTA-abortuswet.jpg
ORGANIZER;CN="VC Geuzenhuis":MAILTO:communicatie@geuzenhuis.be
END:VEVENT
BEGIN:VEVENT
DTSTART;TZID=Europe/Paris:20260212T200000
DTEND;TZID=Europe/Paris:20260212T230000
DTSTAMP:20260425T210522
CREATED:20260120T233957Z
LAST-MODIFIED:20260127T122107Z
UID:10000972-1770926400-1770937200@demens.nu
SUMMARY:Darwinlezing 2026: Taal als bioculturele parasiet
DESCRIPTION:  \nOp 12 februari vieren humanisten overal ter wereld Darwindag\, de geboortedag van Charles Darwin. Samen met het VC Geuzenhuis organiseert het Fonds Lucien De Coninck daarom op donderdag 12.02.2024 een lezing met zijn evolutietheorie in de hoofdrol: \nDit jaar is professor Freek Van de Velde te gast\, met een lezing over “Taal als bioculturele parasiet”. \n  \nDeze omschrijving van taal doet haast onvermijdelijk denken aan wat Richard Dawkins indertijd zei over onze genen\, die lichamen op een egoïstische manier zouden gebruiken om zich van een succesvol voortbestaan te verzekeren. In hoever deze vergelijking ook opgaat voor de ontwikkeling van talen zal moeten blijken uit het betoog van onze spreker. Dat taal gekenmerkt wordt door variatie\, vererving en selectie heeft een nieuwe lichting taalkundigen er toe aangezet om de ontwikkeling van taal\, in tijd en ruimte\, te bekijken door een “evolutionaire” bril. \n  \nOndanks hun enorme diversiteit blijken talen toch een aantal fundamentele eigenschappen te hebben die we als universeel kunnen bestempelen. Deze zijn waarschijnlijk opgelegd door de mogelijkheden en beperkingen van het menselijk brein. Zo worden talen met een hoge informatiedensiteit blijkbaar trager gesproken\, zodat de “natuurlijke” bandbreedte van onze hersenen niet overschreden wordt. \n  \nAnderzijds kunnen de verschillen veelal verklaard worden als adaptaties aan wisselende omstandigheden op zowel klimatologisch\, geografisch\, demografisch als socio-cultureel vlak. Zo zijn talen die hoog in de bergen gesproken worden doorgaans complexer dan talen in het dal\, en hebben luchtvochtigheid en hitte een impact op het gebruik van klinkers en medeklinkers. \nVandaar ook het belang bij taalonderzoek van een interdisciplinaire aanpak. Het samenbrengen van inzichten uit de (paleo)antropologie\, archeologie\, primatologie\, filosofie en psychologie leidt ook hier dikwijls tot verrassende resultaten. \n  \nOmgekeerd stelt de vraag zich dan weer of en hoe de taal onze gedachten eventueel kan aansturen en onze visie op de wereld kan beïnvloeden. Onze spreker zal ook dit eerder controversieel onderzoekdomein niet uit de weg gaan. \n  \nProf. Freek Van de Velde is hoogleraar historische taalkunde en Nederlandse taalkunde aan de KU Leuven. In zijn onderzoek betrekt hij inzichten uit belendende onderzoekdomeinen\, en werkt hij binnen het domein van de culturele evolutie. \nIn zijn boek Wat taal verraadt – Een kleine geschiedenis van brein tot beschaving (Lannoo Campus) geeft hij een overzicht van de stand van de wetenschap op het terrein van de evolutionaire taalkunde. \n  \nVerloop van de avond: \nWelkom vanaf 19:30.\nAanvang lezing: 20:00\nEinde lezing: omstreeks 21:30 \nDaarna is er gelegenheid tot nakaarten met een drankje en kan het boek “Wat taal verraadt” aangekocht worden. \n  \nPlaats: \nVC Geuzenhuis (Zuilenzaal)\nKantienberg 9\n9000 Gent \nInkom: \n5€ voor niet-leden.\nGratis voor leden FLDC en studenten. \nInschrijving: \nGraag vooraf inschrijven via volgende link: Reservatie \n  \n  \nMet de steun van het Humanistisch Verbond.
URL:https://demens.nu/evenement/darwinlezing-2026-taal-als-bioculturele-parasiet/
LOCATION:VC Geuzenhuis\, Kantienberg 9\, Gent\, Oost-Vlaanderen\, 9000
CATEGORIES:Lezing
ATTACH;FMTTYPE=image/jpeg:https://demens.nu/wp-content/uploads/2026/01/c.jpg
ORGANIZER;CN="Fonds Lucien De Coninck":MAILTO:fondsluciendeconinck@gmail.com
END:VEVENT
BEGIN:VEVENT
DTSTART;TZID=Europe/Paris:20260121T190000
DTEND;TZID=Europe/Paris:20260121T233000
DTSTAMP:20260425T210522
CREATED:20260107T123914Z
LAST-MODIFIED:20260107T123914Z
UID:10000260-1769022000-1769038200@demens.nu
SUMMARY:Nieuwjaarsreceptie Gentse vrijzinnig humanistische gemeenschap
DESCRIPTION:Of uw glas nu halfvol of halfleeg is\, we schenken ze met plezier nog eens vol! Welkom op de nieuwjaarsreceptie van de Gentse vrijzinnig humanistische gemeenschap\, toast mee op het nieuwe jaar. Cheers! \nPraktisch\n✦ woensdag 21 januari – vanaf 19u00\n✧ café De Geus van Gent (Kantienberg 9 in Gent)\n✦ 19.00 uur: welkomstwoordje door Carine Stevens (voorzitter VC Geuzenhuis) en Timothy De Thaey (huisvandeMens Gent-Eeklo)\n✧ optreden door Luc Geeraert\, Oost-Vlaams slampioen\n✦ hapjes en drankjes \nInschrijven\nMet hoe meer\,  hoe liever\, maar we weten wél graag vooraf hoeveel cava koud te leggen. Bevestig je komst dus even via admin@geuzenhuis.be
URL:https://demens.nu/evenement/nieuwjaarsreceptie-gentse-vrijzinnig-humanistische-gemeenschap/
LOCATION:De Geus van Gent\, Kantienberg 9\, Gent\, 9000\, Belgium
CATEGORIES:Ontmoeting
ATTACH;FMTTYPE=image/png:https://demens.nu/wp-content/uploads/2026/01/Ontwerp-zonder-titel-21-e1767789263454.png
ORGANIZER;CN="VC Geuzenhuis":MAILTO:communicatie@geuzenhuis.be
END:VEVENT
END:VCALENDAR